BEGIN:VCALENDAR
VERSION:2.0
PRODID:-//wp-events-plugin.com//7.0.5//EN
TZID:America/Detroit
X-WR-TIMEZONE:America/Detroit
BEGIN:VEVENT
UID:890@test.arabamerica.com
DTSTART;TZID=America/Detroit;VALUE=DATE:20150418
DTEND;TZID=America/Detroit;VALUE=DATE:20150419
DTSTAMP:20150406T160232Z
URL:https://test.arabamerica.com/events/zeyad-salehs-concert/
SUMMARY:Zeyad Saleh's Concert
DESCRIPTION:CALIFORNIA\n\nJordanian Superstar Zeyad Saleh - Sponsored by th
 e Jordanian American Association
ATTACH;FMTTYPE=image/jpeg:https://test.arabamerica.com/wp-content/uploads/
 2015/04/10943656_1568315416787806_4321738408269010194_n.jpg
CATEGORIES:Music/Folk/World
LOCATION:St. Nicholas Orthodox Church\, 5200 Diamond Heights Blvd\, San Fra
 ncisco\, CA\, 94131\, United States
GEO:37.7448452;-122.44038519999998
X-APPLE-STRUCTURED-LOCATION;VALUE=URI;X-ADDRESS=5200 Diamond Heights Blvd\,
  San Francisco\, CA\, 94131\, United States;X-APPLE-RADIUS=100;X-TITLE=St.
  Nicholas Orthodox Church:geo:37.7448452,-122.44038519999998
END:VEVENT
BEGIN:VTIMEZONE
TZID:America/Detroit
X-LIC-LOCATION:America/Detroit
BEGIN:DAYLIGHT
DTSTART:20150308T030000
TZOFFSETFROM:-0500
TZOFFSETTO:-0400
TZNAME:EDT
END:DAYLIGHT
END:VTIMEZONE
END:VCALENDAR