BEGIN:VCALENDAR
VERSION:2.0
PRODID:-//wp-events-plugin.com//7.0.5//EN
TZID:America/Detroit
X-WR-TIMEZONE:America/Detroit
BEGIN:VEVENT
UID:928@test.arabamerica.com
DTSTART;TZID=America/Detroit:20150509T110000
DTEND;TZID=America/Detroit:20150509T140000
DTSTAMP:20150408T161821Z
URL:https://test.arabamerica.com/events/zamans-mothers-day/
SUMMARY:Zaman's Mother's Day
DESCRIPTION:MICHIGAN\n\nJoin us as we celebrate our mothers - our Keys to H
 ope - with prizes\, lunch\, baked goods and marketplace shopping at the ne
 w Zaman Marketplace Village!\n\nBint Jebeil Cultural Center\n6220 Miller R
 d.\nDearborn\, MI 48126\n\n$50/ticket or $550/table of 10\nReserve by emai
 l: tickets@zamaninternational.org\nReserve by phone: (313) 551-3994\nOr re
 serve online at the link below.
ATTACH;FMTTYPE=image/jpeg:https://test.arabamerica.com/wp-content/uploads/
 2015/04/ImageProxy-2.mvc_.png
CATEGORIES:Holiday Events
LOCATION:Bint Jebail Cultural Center\, 6220 Miller Rd\, Dearborn\, MI\, 481
 26\, United States
GEO:42.3362394;-83.16611109999997
X-APPLE-STRUCTURED-LOCATION;VALUE=URI;X-ADDRESS=6220 Miller Rd\, Dearborn\,
  MI\, 48126\, United States;X-APPLE-RADIUS=100;X-TITLE=Bint Jebail Cultura
 l Center:geo:42.3362394,-83.16611109999997
END:VEVENT
BEGIN:VTIMEZONE
TZID:America/Detroit
X-LIC-LOCATION:America/Detroit
BEGIN:DAYLIGHT
DTSTART:20150308T030000
TZOFFSETFROM:-0500
TZOFFSETTO:-0400
TZNAME:EDT
END:DAYLIGHT
END:VTIMEZONE
END:VCALENDAR