BEGIN:VCALENDAR
VERSION:2.0
PRODID:-//wp-events-plugin.com//7.0.5//EN
TZID:America/Detroit
X-WR-TIMEZONE:America/Detroit
BEGIN:VEVENT
UID:931@test.arabamerica.com
DTSTART;TZID=America/Detroit:20150424T130000
DTEND;TZID=America/Detroit:20150424T140000
DTSTAMP:20150408T162940Z
URL:https://test.arabamerica.com/events/womens-mosque-of-america/
SUMMARY:Women's Mosque of America
DESCRIPTION:CALIFORNIA\n\nSalaam everyone\,\n\nWe would like to announce o
 ur next jumma'a\, which will inshAllah be on Friday\, April 24\, 2015 fr
 om 1-2pm in downtown Los Angeles. In honor of Sexual Assault Awareness M
 onth\, our April khutbah will discuss the necessity of compassion and just
 ice in addressing sexual violence. In order to help us plan accurately for
  logistics\, we kindly ask that youplease RSVP early\n\n
ATTACH;FMTTYPE=image/jpeg:https://test.arabamerica.com/wp-content/uploads/
 2015/04/9e8a2866-f335-423f-9457-b2e703ba4fcc.jpg
CATEGORIES:Religous
LOCATION:Pico-Union Project\, 1153 Valencia St. \, Los Angeles\, CA\, 90015
 \, United States
GEO:34.0457069;-118.2742576
X-APPLE-STRUCTURED-LOCATION;VALUE=URI;X-ADDRESS=1153 Valencia St. \, Los An
 geles\, CA\, 90015\, United States;X-APPLE-RADIUS=100;X-TITLE=Pico-Union P
 roject:geo:34.0457069,-118.2742576
END:VEVENT
BEGIN:VTIMEZONE
TZID:America/Detroit
X-LIC-LOCATION:America/Detroit
BEGIN:DAYLIGHT
DTSTART:20150308T030000
TZOFFSETFROM:-0500
TZOFFSETTO:-0400
TZNAME:EDT
END:DAYLIGHT
END:VTIMEZONE
END:VCALENDAR