BEGIN:VCALENDAR
VERSION:2.0
PRODID:-//wp-events-plugin.com//7.0.5//EN
TZID:America/Detroit
X-WR-TIMEZONE:America/Detroit
BEGIN:VEVENT
UID:903@test.arabamerica.com
DTSTART;TZID=America/Detroit;VALUE=DATE:20150426
DTEND;TZID=America/Detroit;VALUE=DATE:20150504
DTSTAMP:20150406T172400Z
URL:https://test.arabamerica.com/events/what-christians-need-to-understand
 -about-isis-terrorist-and-islam/
SUMMARY:What Christians Need to Understand About ISIS Terrorist and Islam
DESCRIPTION:INDIANA\n\nWho is this ISIS Terrorist group? Are they true Musl
 ims ?\nDoes the teachings of the Koran support their actions?\n\nPastor Je
 rry has invited two well informed guests to join us in April to help us un
 derstand ISIS and the teachings of Islam.\n\nApril 19th ● 9:15 am -10:15
  am Dr. David Carlson (Religion Professor from Franklin College) will give
  a lecture\, "What Every American Needs to Know about ISIS/ISIL\," Those w
 ho attend the first topic will understand the origins\, vision\, rage\, an
 d attitude toward the West of this terror group.\n\nDr. David Carlson has 
 been a member of the religious studies department at Franklin College for 
 thirty-seven years. David’s book Peace Be with You: Monastic Wisdom for 
 a Terror-Filled World was published by Thomas Nelson in 2011. The book was
  given a starred review by both Library Journal and Publisher’s Weekly. 
 Library Journal also named Peace Be with You as one of the best books of 2
 011 in the area of Spiritual Living.\nDavid’s second book on faith respo
 nses to religious terrorism is Countering ISIS: The Power of Spiritual Fri
 endships (not yet published).\n\nApril 26th &amp\; May 3rd ● 9:15 am -10
 :15 am\nDr. Shahid Athar (born in Patna\, India) a U.S. citizen\, is a Cli
 nical Associate Professor at Indiana University School of Medicine and an 
 Endocrinologist in private practice in Carmel. He is founder and past pres
 ident of Interfaith Alliance of Indiana and Islamic Society of Greater Ind
 ianapolis. Dr. Athar will explain the main principles of Islam and the Kor
 an. Pastor Jerry has given him some questions to answer in his lectures as
  well.\n\n\nWhat is Jihad? We hear individuals call for a Jihad against th
 e west. Does it say that in the Koran?\n\nAre there scriptures in the Kora
 n that call for Muslims to kill people who aren't Muslim?\n\nWhat is Shari
 a Law? There are some who think Muslims in this country want to make Shari
 a law for everyone.\n\nWhat are the misconceptions people have of Islam an
 d Muslims?
ATTACH;FMTTYPE=image/jpeg:https://test.arabamerica.com/wp-content/uploads/
 2015/04/11081251_10152674881225163_9222882482956184004_n.jpg
CATEGORIES:Lecture
LOCATION:Carmel Christian Church\, 463 East Main St\, Carmel\, IN\, 46032\,
  United States
GEO:39.977794;-86.120923
X-APPLE-STRUCTURED-LOCATION;VALUE=URI;X-ADDRESS=463 East Main St\, Carmel\,
  IN\, 46032\, United States;X-APPLE-RADIUS=100;X-TITLE=Carmel Christian Ch
 urch:geo:39.977794,-86.120923
END:VEVENT
BEGIN:VTIMEZONE
TZID:America/Detroit
X-LIC-LOCATION:America/Detroit
BEGIN:DAYLIGHT
DTSTART:20150308T030000
TZOFFSETFROM:-0500
TZOFFSETTO:-0400
TZNAME:EDT
END:DAYLIGHT
END:VTIMEZONE
END:VCALENDAR