BEGIN:VCALENDAR
VERSION:2.0
PRODID:-//wp-events-plugin.com//7.0.5//EN
TZID:America/Detroit
X-WR-TIMEZONE:America/Detroit
BEGIN:VEVENT
UID:251@test.arabamerica.com
DTSTART;TZID=America/Detroit:20150403T173000
DTEND;TZID=America/Detroit:20150403T190000
DTSTAMP:20150128T232559Z
URL:https://test.arabamerica.com/events/wadjda/
SUMMARY:“Wadjda”
DESCRIPTION:“Wadjda” Director: Haifaa Al-Mansour (2012)\, Saudi Arabia 
 (Arabic with English subtitles\, 98 mins).\n\nAbout the film:\nThis is the
  first feature film shot entirely in Saudi Arabia and the first Saudi film
  submitted for an Academy Award. It tells the moving story of Wadjda\, an 
 11-year-old girl on a mission to own a bicycle.\n\nThis screening is part 
 of “Dreaming of Tomorrow: Youth Culture in the Middle East\,” a film 
 series curated by Sa’ed Adel Atshan\, Postdoctoral Fellow in Internati
 onal Studies at the Watson Institute for International Studies.\n\n
ATTACH;FMTTYPE=image/jpeg:https://test.arabamerica.com/wp-content/uploads/
 2015/01/rsz_wadjda_poster_1-341x512.jpg
CATEGORIES:Film
LOCATION:Joukowsky Forum\, Watson Institute\, 111 Thayer St\, Providence\, 
 RI\, 02906\, United States
GEO:41.8244012;-71.39999160000002
X-APPLE-STRUCTURED-LOCATION;VALUE=URI;X-ADDRESS=111 Thayer St\, Providence\
 , RI\, 02906\, United States;X-APPLE-RADIUS=100;X-TITLE=Joukowsky Forum\, 
 Watson Institute:geo:41.8244012,-71.39999160000002
END:VEVENT
BEGIN:VTIMEZONE
TZID:America/Detroit
X-LIC-LOCATION:America/Detroit
BEGIN:DAYLIGHT
DTSTART:20150308T030000
TZOFFSETFROM:-0500
TZOFFSETTO:-0400
TZNAME:EDT
END:DAYLIGHT
END:VTIMEZONE
END:VCALENDAR