BEGIN:VCALENDAR
VERSION:2.0
PRODID:-//wp-events-plugin.com//7.0.5//EN
TZID:America/Detroit
X-WR-TIMEZONE:America/Detroit
BEGIN:VEVENT
UID:920@test.arabamerica.com
DTSTART;TZID=America/Detroit:20150516T173000
DTEND;TZID=America/Detroit:20150516T183000
DTSTAMP:20150406T185201Z
URL:https://test.arabamerica.com/events/voice-of-a-condor-climb-of-hope-hp
 ff2015/
SUMMARY:Voice of a Condor & Climb of Hope #HPFF2015
DESCRIPTION:TEXAS\n\nDue to political instability and poverty\, Christian P
 alestinians have been immigrating since the 19 century to the Americas and
  especially to Chile. Today\, Chile has the largest Palestinian diaspora o
 utside of the Middle East. The Voice of a Condor features the voice of the
  Christian Palestinian diaspora in Chile. It is a voice which strongly bri
 ngs the Palestinian Christian population back to the political map of Pale
 stine/Israel.\n\nDocumentary/ USA\, Chile/ 2014/ Spanish/ Color/ 45 minute
 s\nDate &amp\; Place: Saturday\, May 16 - 5:30 PM at Rice University Media
  Center\nDirector: Heba Al Attar\nWriter: Heba Al Attar\n\n
ATTACH;FMTTYPE=image/jpeg:https://test.arabamerica.com/wp-content/uploads/
 2015/04/10987369_1036534586360179_5436177370738143770_n.jpg
CATEGORIES:Festivals,Film
LOCATION:Rice Media Center\, 6100 Main Street\, Houston\, TX\, United State
 s
GEO:29.7161208;-95.40430190000001
X-APPLE-STRUCTURED-LOCATION;VALUE=URI;X-ADDRESS=6100 Main Street\, Houston\
 , TX\, United States;X-APPLE-RADIUS=100;X-TITLE=Rice Media Center:geo:29.7
 161208,-95.40430190000001
END:VEVENT
BEGIN:VTIMEZONE
TZID:America/Detroit
X-LIC-LOCATION:America/Detroit
BEGIN:DAYLIGHT
DTSTART:20150308T030000
TZOFFSETFROM:-0500
TZOFFSETTO:-0400
TZNAME:EDT
END:DAYLIGHT
END:VTIMEZONE
END:VCALENDAR