BEGIN:VCALENDAR
VERSION:2.0
PRODID:-//wp-events-plugin.com//7.0.5//EN
TZID:America/Detroit
X-WR-TIMEZONE:America/Detroit
BEGIN:VEVENT
UID:914@test.arabamerica.com
DTSTART;TZID=America/Detroit:20150509T190000
DTEND;TZID=America/Detroit:20150509T213000
DTSTAMP:20150406T183934Z
URL:https://test.arabamerica.com/events/villa-touma/
SUMMARY:Villa Touma
DESCRIPTION:TEXAS\n\n9th Annual Houston Palestine Film Festival\nVilla Toum
 a by Suha Arraf\n\nDrama/ 2014/ Arabic/ Color/ 87 minutes\n\nEighteen-year
 -old Badia arrives at the home of her three spinster aunts in Ramallah aft
 er leaving a Catholic orphanage in Jerusalem\, where she was raised. The t
 hree sisters\, Juliette\, Violet\, and Antoinette\, isolated themselves fr
 om the rest of the world\, and adopted a routine of strictness and sternne
 ss. With their young guest in house\, the three sisters decide to marry Ba
 dia off to a man from a good family. But Badia's outgoing personality and 
 her secret love for an unsuitable man angers the three sisters\, and with 
 that\, secrets start to unravel throughout the house.\n\nDate &amp\; Place
 : Saturday\, May 9 - 7:00 PM at Museum of Fine Arts\, Houston\nDirector: S
 uha Arraf\nWriter: Suha Arraf\nCast: Nisreen Faour\, Ula Tabari\, Cherin D
 abis\, Maria Zreik\n\n
ATTACH;FMTTYPE=image/jpeg:https://test.arabamerica.com/wp-content/uploads/
 2015/04/11081364_1035218866491751_8249500140748091755_n.jpg
CATEGORIES:Festivals,Film
LOCATION:MFAH - The Museum of Fine Arts\, 1001 Bissonnet S\, Houston\, TX\,
  United States
GEO:29.7256798;-95.39048249999996
X-APPLE-STRUCTURED-LOCATION;VALUE=URI;X-ADDRESS=1001 Bissonnet S\, Houston\
 , TX\, United States;X-APPLE-RADIUS=100;X-TITLE=MFAH - The Museum of Fine 
 Arts:geo:29.7256798,-95.39048249999996
END:VEVENT
BEGIN:VTIMEZONE
TZID:America/Detroit
X-LIC-LOCATION:America/Detroit
BEGIN:DAYLIGHT
DTSTART:20150308T030000
TZOFFSETFROM:-0500
TZOFFSETTO:-0400
TZNAME:EDT
END:DAYLIGHT
END:VTIMEZONE
END:VCALENDAR