BEGIN:VCALENDAR
VERSION:2.0
PRODID:-//wp-events-plugin.com//7.0.5//EN
TZID:America/Detroit
X-WR-TIMEZONE:America/Detroit
BEGIN:VEVENT
UID:895@test.arabamerica.com
DTSTART;TZID=America/Detroit:20150423T180000
DTEND;TZID=America/Detroit:20150423T200000
DTSTAMP:20150406T165359Z
URL:https://test.arabamerica.com/events/ucla-student-led-hijab-headscarf-m
 onologues-spoken-word-dance-and-arts/
SUMMARY:UCLA Student-Led Hijab (Headscarf) Monologues: Spoken Word\, Dance\
 , and Arts
DESCRIPTION:CALIFORNIA\n\n\nListen to what inspires Muslim women to wear th
 eir hijab in the face of adversity. UCLA students will share their persona
 l perspectives about the headscarf\, unveil misconceptions\, inspire unity
  and build a common understanding among UCLA students.\n\n\n\n\n
ATTACH;FMTTYPE=image/jpeg:https://test.arabamerica.com/wp-content/uploads/
 2015/04/1902897_919939258049028_7240692462392668281_n.jpg
CATEGORIES:Community
LOCATION:UCLA\, 405 Hilgard Ave\, Los Angeles\, CA\, 90095\, United States
GEO:34.0727504;-118.43927029999998
X-APPLE-STRUCTURED-LOCATION;VALUE=URI;X-ADDRESS=405 Hilgard Ave\, Los Angel
 es\, CA\, 90095\, United States;X-APPLE-RADIUS=100;X-TITLE=UCLA:geo:34.072
 7504,-118.43927029999998
END:VEVENT
BEGIN:VTIMEZONE
TZID:America/Detroit
X-LIC-LOCATION:America/Detroit
BEGIN:DAYLIGHT
DTSTART:20150308T030000
TZOFFSETFROM:-0500
TZOFFSETTO:-0400
TZNAME:EDT
END:DAYLIGHT
END:VTIMEZONE
END:VCALENDAR