BEGIN:VCALENDAR
VERSION:2.0
PRODID:-//wp-events-plugin.com//7.0.5//EN
TZID:America/Detroit
X-WR-TIMEZONE:America/Detroit
BEGIN:VEVENT
UID:896@test.arabamerica.com
DTSTART;TZID=America/Detroit;VALUE=DATE:20150521
DTEND;TZID=America/Detroit;VALUE=DATE:20150522
DTSTAMP:20150406T165614Z
URL:https://test.arabamerica.com/events/uc-riverside-student-led-hijab-mon
 ologues-spoken-word-dance-and-the-arts/
SUMMARY:UC Riverside Student-Led Hijab Monologues: Spoken Word\, Dance\, an
 d the Arts
DESCRIPTION:CALIFORNIA\n\nListen to what inspires Muslim women to wear thei
 r hijab in the face of adversity. UCR students will share their personal p
 erspectives about the headscarf\, unveil misconceptions\, inspire unity an
 d build a common understanding amongst UCR students.\n\n**Date still being
  negotiated within May.
ATTACH;FMTTYPE=image/jpeg:https://test.arabamerica.com/wp-content/uploads/
 2015/04/11102878_919936874715933_2072664289272838301_n.jpg
CATEGORIES:Advocacy,Community
LOCATION:Ucr Barn\, 900 University Ave\, Riverside\, CA\, 92507\, United St
 ates
GEO:33.9777762;-117.32791309999999
X-APPLE-STRUCTURED-LOCATION;VALUE=URI;X-ADDRESS=900 University Ave\, Rivers
 ide\, CA\, 92507\, United States;X-APPLE-RADIUS=100;X-TITLE=Ucr Barn:geo:3
 3.9777762,-117.32791309999999
END:VEVENT
BEGIN:VTIMEZONE
TZID:America/Detroit
X-LIC-LOCATION:America/Detroit
BEGIN:DAYLIGHT
DTSTART:20150308T030000
TZOFFSETFROM:-0500
TZOFFSETTO:-0400
TZNAME:EDT
END:DAYLIGHT
END:VTIMEZONE
END:VCALENDAR