BEGIN:VCALENDAR
VERSION:2.0
PRODID:-//wp-events-plugin.com//7.0.5//EN
TZID:America/Detroit
X-WR-TIMEZONE:America/Detroit
BEGIN:VEVENT
UID:242@test.arabamerica.com
DTSTART;TZID=America/Detroit:20150217T173000
DTEND;TZID=America/Detroit:20150217T190000
DTSTAMP:20150128T001455Z
URL:https://test.arabamerica.com/events/time-remains-film-screening/
SUMMARY:“The Time that Remains” Film Screening
DESCRIPTION:Screening of The Time that Remains\, director: Elia Suleiman 
 (2009)\, France (Arabic/Hebrew/English\, English subtitles\, 109 min)\nP
 resented by Nicola Perugini\n\nThis event is part of  “1948 – Once U
 pon a Palestine”\, a film series curated by Ariella Azoulay\, Assistant
  Professor of Comparative Literature and Modern Culture.
ATTACH;FMTTYPE=image/jpeg:https://test.arabamerica.com/wp-content/uploads/
 2015/01/time-that-remains-1948-spring-poster-copy-341x512.jpg
CATEGORIES:Film
LOCATION:Joukowsky Forum\, Watson Institute\, 111 Thayer St\, Providence\, 
 RI\, 02906\, United States
GEO:41.8244012;-71.39999160000002
X-APPLE-STRUCTURED-LOCATION;VALUE=URI;X-ADDRESS=111 Thayer St\, Providence\
 , RI\, 02906\, United States;X-APPLE-RADIUS=100;X-TITLE=Joukowsky Forum\, 
 Watson Institute:geo:41.8244012,-71.39999160000002
END:VEVENT
BEGIN:VTIMEZONE
TZID:America/Detroit
X-LIC-LOCATION:America/Detroit
BEGIN:STANDARD
DTSTART:20141102T010000
TZOFFSETFROM:-0400
TZOFFSETTO:-0500
TZNAME:EST
END:STANDARD
END:VTIMEZONE
END:VCALENDAR