BEGIN:VCALENDAR
VERSION:2.0
PRODID:-//wp-events-plugin.com//7.0.5//EN
TZID:America/Detroit
X-WR-TIMEZONE:America/Detroit
BEGIN:VEVENT
UID:919@test.arabamerica.com
DTSTART;TZID=America/Detroit:20150516T190000
DTEND;TZID=America/Detroit:20150516T210000
DTSTAMP:20150406T185000Z
URL:https://test.arabamerica.com/events/the-wanted-18/
SUMMARY:The Wanted 18
DESCRIPTION:TEXAS\n\nCombining stop motion animation with interviews\, orig
 inal drawings and archival footage\, The Wanted 18 tells the story of a gr
 oup of Palestinian activists in Beit Sahour\, who decide to purchase 18 co
 ws from an Israeli kibbutz to create a cooperative dairy farm in the West 
 Bank during the first Intifada. With time\, they start producing a high qu
 ality product that becomes known as the "Intifada Milk." This aspiring pro
 ject does not go unnoticed\; the dairy farm is raided by the Israelis and 
 the cows are declared "a threat to the national security of the State of I
 srael."\n\nDate &amp\; Place: Saturday\, May 16 - 7:00 PM at Rice Universi
 ty Media Center\nDirectors: Paul Cowan\, Amer Shomali\nWriter: Paul Cowan\
 nCast: Alison Darcy\, Rosann Nerenberg\, Holly O'Brien\n\n
ATTACH;FMTTYPE=image/jpeg:https://test.arabamerica.com/wp-content/uploads/
 2015/04/11136706_1036527259694245_2215879769305590444_n.jpg
CATEGORIES:Film,Fundraiser
LOCATION:Rice Media Center\, 6100 Main Street\, Houston\, TX\, United State
 s
GEO:29.7161208;-95.40430190000001
X-APPLE-STRUCTURED-LOCATION;VALUE=URI;X-ADDRESS=6100 Main Street\, Houston\
 , TX\, United States;X-APPLE-RADIUS=100;X-TITLE=Rice Media Center:geo:29.7
 161208,-95.40430190000001
END:VEVENT
BEGIN:VTIMEZONE
TZID:America/Detroit
X-LIC-LOCATION:America/Detroit
BEGIN:DAYLIGHT
DTSTART:20150308T030000
TZOFFSETFROM:-0500
TZOFFSETTO:-0400
TZNAME:EDT
END:DAYLIGHT
END:VTIMEZONE
END:VCALENDAR