BEGIN:VCALENDAR
VERSION:2.0
PRODID:-//wp-events-plugin.com//7.0.5//EN
TZID:America/Detroit
X-WR-TIMEZONE:America/Detroit
BEGIN:VEVENT
UID:878@test.arabamerica.com
DTSTART;TZID=America/Detroit:20150426T100000
DTEND;TZID=America/Detroit:20150430T190000
DTSTAMP:20150408T191841Z
URL:https://test.arabamerica.com/events/the-moroccan-artisan-festival-in-a
 lexandria/
SUMMARY:The Moroccan Artisan Festival in Alexandria
DESCRIPTION:Parking in Alexandria\nWith street parking\, lots and garages j
 ust steps from chef-driven restaurants\, independent shops and boutique ho
 tels\, parking in Alexandria is easy. Parking is free in many parts of the
  city\, including Del Ray\, and visitors to Old Town will find over a doze
 n parking garages - some with flat rates as low as $4 a day.\n\nFor more i
 nsider tips on Old Town parking\, check out How to Park in Old Town Alexan
 dria on our blog.\nStreet Parking\nStreet parking spaces in Old Town and C
 arlyle are free after 9 p.m. and on Sundays and state holidays. Del Ray of
 fers free parking!\n\nRegister to pay by phone for on-street parking using
  Pango™.\n\n	Website: alexandriava.gov/PayByPhone\n	Download the App - i
 OS or Android\n	Call 1-855-547-2646 - Voice response or talk to a person\n
 \nMeters accept credit cards and coins.\n\n	A receipt from a multi-space m
 eter is good throughout the city at any other metered space while it still
  has time remaining.\n\nOff King\n\n	In addition to metered-parking in the
  King Street Corridor\, free two- and three-hour spaces are located a few 
 blocks off King Street (north of Cameron Street or south of Duke Street).\
 n\nHandicapped Parking\nHandicapped parking is free for up to four hours a
 t single- and multi-space meters. In addition\, individuals with a handica
 pped license plate or hangtag can park more than twice the time posted on 
 signs in time-restricted parking zones.\nGarage Parking\nFor real-time map
 s to locate parking in garages\, visit the ParkMe website or download thei
 r free iPhone app.\n\n	The Market Square Garage (108 N. Fairfax Street) in
  Old Town Alexandria is just $4 all day on Saturdays and Sundays\, $4 all 
 evening for weekdays after 5 p.m.\, and $2.50 per hour or $10 all day on w
 eekdays before 5 p.m.\n\n
ATTACH;FMTTYPE=image/jpeg:https://test.arabamerica.com/wp-content/uploads/
 2015/04/11136736_10203758351669805_6092483881266594328_n-696x9601.jpg
CATEGORIES:Art/Visual,Community,Dance/Folk,Festivals
LOCATION:Market Square in front of Alexandria City Hall\, Market Square\, 3
 01 King St\, Alexandria\, VA\, United States
GEO:38.805215;-77.04298299999999
X-APPLE-STRUCTURED-LOCATION;VALUE=URI;X-ADDRESS=Market Square\, 301 King St
 \, Alexandria\, VA\, United States;X-APPLE-RADIUS=100;X-TITLE=Market Squar
 e in front of Alexandria City Hall:geo:38.805215,-77.04298299999999
END:VEVENT
BEGIN:VTIMEZONE
TZID:America/Detroit
X-LIC-LOCATION:America/Detroit
BEGIN:DAYLIGHT
DTSTART:20150308T030000
TZOFFSETFROM:-0500
TZOFFSETTO:-0400
TZNAME:EDT
END:DAYLIGHT
END:VTIMEZONE
END:VCALENDAR