BEGIN:VCALENDAR
VERSION:2.0
PRODID:-//wp-events-plugin.com//7.0.5//EN
TZID:America/Detroit
X-WR-TIMEZONE:America/Detroit
BEGIN:VEVENT
UID:872@test.arabamerica.com
DTSTART;TZID=America/Detroit:20150407T140000
DTEND;TZID=America/Detroit:20150407T163000
DTSTAMP:20150403T152109Z
URL:https://test.arabamerica.com/events/the-crisis-in-yemen-a-conversation
 -with-richard-betts/
SUMMARY:The Crisis in Yemen: A Conversation with Richard Betts
DESCRIPTION:NEW YORK\n\nJoin the CIRCA for an informal conversation with Pr
 ofessor Richard Betts of SIPA and the Saltzman Institute of War and Peace 
 Studies on Tuesday\, 7 April at 2:00 pm.\n\nDr. Betts will be addressing t
 he current crisis in Yemen\, and will be shedding light on the complex web
  of tensions\, alliances and rivalries in the Middle East that have driven
  this crisis forward. We hope to see you there!\n\n
ATTACH;FMTTYPE=image/jpeg:https://test.arabamerica.com/wp-content/uploads/
 2015/04/988507_975697899115104_2164642165192350909_n.jpg
CATEGORIES:Lecture
LOCATION:Columbia University\, 116th St &amp\; Broadway\, New York\, NY\, U
 nited States
GEO:40.8080586;-73.96400840000001
X-APPLE-STRUCTURED-LOCATION;VALUE=URI;X-ADDRESS=116th St & Broadway\, New Y
 ork\, NY\, United States;X-APPLE-RADIUS=100;X-TITLE=Columbia University:ge
 o:40.8080586,-73.96400840000001
END:VEVENT
BEGIN:VTIMEZONE
TZID:America/Detroit
X-LIC-LOCATION:America/Detroit
BEGIN:DAYLIGHT
DTSTART:20150308T030000
TZOFFSETFROM:-0500
TZOFFSETTO:-0400
TZNAME:EDT
END:DAYLIGHT
END:VTIMEZONE
END:VCALENDAR