BEGIN:VCALENDAR
VERSION:2.0
PRODID:-//wp-events-plugin.com//7.0.5//EN
TZID:America/Detroit
X-WR-TIMEZONE:America/Detroit
BEGIN:VEVENT
UID:942@test.arabamerica.com
DTSTART;TZID=America/Detroit:20150414T200000
DTEND;TZID=America/Detroit:20150414T213000
DTSTAMP:20150408T171128Z
URL:https://test.arabamerica.com/events/the-criminalization-of-race-the-pr
 ison-industrial-complex-in-us-and-israel/
SUMMARY:The Criminalization of Race: The Prison Industrial Complex in US an
 d Israel
DESCRIPTION:DISTRICT OF COLUMBIA\n\nCome join SJP for a discussion on the p
 rison industrial complex in the United States and Israel.\n\nThe prison in
 dustrial complex (PIC) is a term we use to describe the overlapping intere
 sts of government and industry that use surveillance\, policing\, and impr
 isonment as solutions to economic\, social and political problems (from Cr
 itical Resistance).\n\nWe will talk about actual political prisoners and c
 urrent campaigns. This event is part of CASJ's Radical Rush Week. We thank
  everyone in advance for your interest and can't wait to see you Tuesday!\
 n\nFor more information on CASJ's Radical Rush Week:https://www.facebook.c
 om/events/437904063053188/\n\nFor more information on the PIC\, check out:
  http://criticalresistance.org/\n\nPolitical Prisoner info in Palestine:
  http://www.addameer.org/index.php\n\nFree Mumia: http://www.freemumia.c
 om/\n\nPrisoners of Conscience: http://www.amnestyusa.org/our-work/issues
 /prisoners-and-people-at-risk/prisoners-of-conscience\n\nDemands of US str
 iking prisoners: https://prisonerhungerstrikesolidarity.wordpress.com/the
 -prisoners-demands-2/\n\nJuvenile detention facility reports in US (immigr
 ation): http://trac.syr.edu/immigration/detention/exit.shtml\n\nThis even
 t is free and open to the public. Room details to come.\n\n
ATTACH;FMTTYPE=image/jpeg:https://test.arabamerica.com/wp-content/uploads/
 2015/04/10407078_826248824111489_8774498741901652321_n.jpg
CATEGORIES:Academic Lecture,Student Group
LOCATION:American University\, 4400 Massachusetts Ave NW\, Washington\, DC\
 , United States
GEO:38.9392871;-77.08718440000001
X-APPLE-STRUCTURED-LOCATION;VALUE=URI;X-ADDRESS=4400 Massachusetts Ave NW\,
  Washington\, DC\, United States;X-APPLE-RADIUS=100;X-TITLE=American Unive
 rsity:geo:38.9392871,-77.08718440000001
END:VEVENT
BEGIN:VTIMEZONE
TZID:America/Detroit
X-LIC-LOCATION:America/Detroit
BEGIN:DAYLIGHT
DTSTART:20150308T030000
TZOFFSETFROM:-0500
TZOFFSETTO:-0400
TZNAME:EDT
END:DAYLIGHT
END:VTIMEZONE
END:VCALENDAR