BEGIN:VCALENDAR
VERSION:2.0
PRODID:-//wp-events-plugin.com//7.0.5//EN
TZID:America/Detroit
X-WR-TIMEZONE:America/Detroit
BEGIN:VEVENT
UID:1@test.arabamerica.com
DTSTART;TZID=America/Detroit;VALUE=DATE:20141031
DTEND;TZID=America/Detroit;VALUE=DATE:20141111
DTSTAMP:20141112T033534Z
URL:https://test.arabamerica.com/events/test-event/
SUMMARY:Test event
DESCRIPTION:Test event Excerpt
CATEGORIES:Film
END:VEVENT
BEGIN:VTIMEZONE
TZID:America/Detroit
X-LIC-LOCATION:America/Detroit
BEGIN:DAYLIGHT
DTSTART:20140309T030000
TZOFFSETFROM:-0500
TZOFFSETTO:-0400
TZNAME:EDT
END:DAYLIGHT
BEGIN:STANDARD
DTSTART:20141102T010000
TZOFFSETFROM:-0400
TZOFFSETTO:-0500
TZNAME:EST
END:STANDARD
END:VTIMEZONE
END:VCALENDAR