BEGIN:VCALENDAR
VERSION:2.0
PRODID:-//wp-events-plugin.com//7.0.5//EN
TZID:America/Detroit
X-WR-TIMEZONE:America/Detroit
BEGIN:VEVENT
UID:245@test.arabamerica.com
DTSTART;TZID=America/Detroit:20150127T170000
DTEND;TZID=America/Detroit:20150127T190000
DTSTAMP:20150128T015008Z
URL:https://test.arabamerica.com/events/terrorism-arab-world/
SUMMARY:Terrorism in the Arab World
DESCRIPTION:Our SECOND Discussion Circle this term is gonna be tomorrow\, J
 anuary 28\, and will be about Terrorism! It will be relevant both as a con
 tinuation of the topics we have been discussing over the past term as well
  as relevant to the current atmosphere that dominates the world over the i
 ssue.\n\nDiscussion will flow between Arabic &amp\; English\, mostly as pe
 r the old format\, and the Circle will be held from 5-7 pm in the Mills In
 ternational Center throughout this term.\n\n&nbsp\;\n\n\n
ATTACH;FMTTYPE=image/jpeg:https://test.arabamerica.com/wp-content/uploads/
 2015/01/1013808_779851905381870_5328480197309943120_n.jpg
CATEGORIES:Student Group
LOCATION:University of Oregon\, Erb Memorial Union\, Mezzanine Room 144\, E
 rb Memorial Union\, Eugene\,  Oregon \, 97403\, United States
GEO:44.04467440000001;-123.07375239999999
X-APPLE-STRUCTURED-LOCATION;VALUE=URI;X-ADDRESS=Erb Memorial Union\, Eugene
 \,  Oregon \, 97403\, United States;X-APPLE-RADIUS=100;X-TITLE=University 
 of Oregon\, Erb Memorial Union\, Mezzanine Room 144:geo:44.04467440000001,
 -123.07375239999999
END:VEVENT
BEGIN:VTIMEZONE
TZID:America/Detroit
X-LIC-LOCATION:America/Detroit
BEGIN:STANDARD
DTSTART:20141102T010000
TZOFFSETFROM:-0400
TZOFFSETTO:-0500
TZNAME:EST
END:STANDARD
END:VTIMEZONE
END:VCALENDAR