BEGIN:VCALENDAR
VERSION:2.0
PRODID:-//wp-events-plugin.com//7.0.5//EN
TZID:America/Detroit
X-WR-TIMEZONE:America/Detroit
BEGIN:VEVENT
UID:924@test.arabamerica.com
DTSTART;TZID=America/Detroit:20150424T193000
DTEND;TZID=America/Detroit:20150424T210000
DTSTAMP:20150406T190937Z
URL:https://test.arabamerica.com/events/talk-show-being-muslim-today/
SUMMARY:Talk Show: Being Muslim Today
DESCRIPTION:ILLINOIS\n\nThe Islamic Foundation\, Villa Park\, IL Presents A
  Talk Show with Sh Yasir Qadhi\n\n
ATTACH;FMTTYPE=image/jpeg:https://test.arabamerica.com/wp-content/uploads/
 2015/04/10171762_976367772373608_90553112420528070_n.jpg
CATEGORIES:Religous
LOCATION:Islamic Foundation\, 300 West High Ridge Rd\, Villa Park\, IL\, 60
 181\, United States
GEO:41.8681689;-87.9858269
X-APPLE-STRUCTURED-LOCATION;VALUE=URI;X-ADDRESS=300 West High Ridge Rd\, Vi
 lla Park\, IL\, 60181\, United States;X-APPLE-RADIUS=100;X-TITLE=Islamic F
 oundation:geo:41.8681689,-87.9858269
END:VEVENT
BEGIN:VTIMEZONE
TZID:America/Detroit
X-LIC-LOCATION:America/Detroit
BEGIN:DAYLIGHT
DTSTART:20150308T030000
TZOFFSETFROM:-0500
TZOFFSETTO:-0400
TZNAME:EDT
END:DAYLIGHT
END:VTIMEZONE
END:VCALENDAR