BEGIN:VCALENDAR
VERSION:2.0
PRODID:-//wp-events-plugin.com//7.0.5//EN
TZID:America/Detroit
X-WR-TIMEZONE:America/Detroit
BEGIN:VEVENT
UID:893@test.arabamerica.com
DTSTART;TZID=America/Detroit:20150414T183000
DTEND;TZID=America/Detroit:20150414T213000
DTSTAMP:20150406T163938Z
URL:https://test.arabamerica.com/events/support-rasmea/
SUMMARY:Support Rasmea
DESCRIPTION:INDIANA\n\nRasmea will address the gathering either in person o
 r by Skype. Please join us to discuss Rasmea’s case and support her appe
 al. There is a $10 admission fee that will go towards Rasmea's Appeal Fund
  - appetizers\, sweets\, &amp\; treats will be provided. For a description
  of Rasmea's case\, please read the following article by Ali Abunimah: ht
 tp://electronicintifada.net/blogs/ali-abunimah/judge-sentences-rasmea-odeh
 -insisting-case-not-political
ATTACH;FMTTYPE=image/jpeg:https://test.arabamerica.com/wp-content/uploads/
 2015/04/11133743_862398827151246_1328475994209674924_n.png
CATEGORIES:Advocacy,Community,Fundraiser
LOCATION:Plymouth Congregational Church of Fort Wayne\, 501 W Berry St\, Fo
 rt Wayne\, Indiana\, 46802\, United States
GEO:41.07809109999999;-85.14643769999998
X-APPLE-STRUCTURED-LOCATION;VALUE=URI;X-ADDRESS=501 W Berry St\, Fort Wayne
 \, Indiana\, 46802\, United States;X-APPLE-RADIUS=100;X-TITLE=Plymouth Con
 gregational Church of Fort Wayne:geo:41.07809109999999,-85.14643769999998
END:VEVENT
BEGIN:VTIMEZONE
TZID:America/Detroit
X-LIC-LOCATION:America/Detroit
BEGIN:DAYLIGHT
DTSTART:20150308T030000
TZOFFSETFROM:-0500
TZOFFSETTO:-0400
TZNAME:EDT
END:DAYLIGHT
END:VTIMEZONE
END:VCALENDAR