BEGIN:VCALENDAR
VERSION:2.0
PRODID:-//wp-events-plugin.com//7.0.5//EN
TZID:America/Detroit
X-WR-TIMEZONE:America/Detroit
BEGIN:VEVENT
UID:2@test.arabamerica.com
DTSTART;TZID=America/Detroit:20141031T003000
DTEND;TZID=America/Detroit:20141110T003000
DTSTAMP:20141103T145913Z
URL:https://test.arabamerica.com/events/submit-new-event/
SUMMARY:New event
DESCRIPTION:Event description because there is no Excerpt
CATEGORIES:Film
LOCATION:My Place\, NY 10007\, USA\, New York\, USA\, United States
GEO:40.7136487;-74.00871259999997
X-APPLE-STRUCTURED-LOCATION;VALUE=URI;X-ADDRESS=NY 10007\, USA\, New York\,
  USA\, United States;X-APPLE-RADIUS=100;X-TITLE=My Place:geo:40.7136487,-7
 4.00871259999997
END:VEVENT
BEGIN:VTIMEZONE
TZID:America/Detroit
X-LIC-LOCATION:America/Detroit
BEGIN:DAYLIGHT
DTSTART:20140309T030000
TZOFFSETFROM:-0500
TZOFFSETTO:-0400
TZNAME:EDT
END:DAYLIGHT
BEGIN:STANDARD
DTSTART:20141102T010000
TZOFFSETFROM:-0400
TZOFFSETTO:-0500
TZNAME:EST
END:STANDARD
END:VTIMEZONE
END:VCALENDAR