BEGIN:VCALENDAR
VERSION:2.0
PRODID:-//wp-events-plugin.com//7.0.5//EN
TZID:America/Detroit
X-WR-TIMEZONE:America/Detroit
BEGIN:VEVENT
UID:900@test.arabamerica.com
DTSTART;TZID=America/Detroit:20150416T180000
DTEND;TZID=America/Detroit:20150416T201500
DTSTAMP:20150406T171105Z
URL:https://test.arabamerica.com/events/stop-the-crisis/
SUMMARY:Stop The crISIS
DESCRIPTION:OHIO\n\nIn recent months\, the phenomenon of radicalization and
  extremism among certain elements of society has grown and become cause fo
 r concern across the country. Radicalization has become one of the most pu
 zzling and worrying issues of the past 2 years.\n\nJoin us to see the Isla
 mic solutions to this crISIS and the differences between Islam and ISIS.\n
 \nPizza and refreshments will be served.\n\n
ATTACH;FMTTYPE=image/jpeg:https://test.arabamerica.com/wp-content/uploads/
 2015/04/11112218_809292929107478_7949496728490960530_n.jpg
CATEGORIES:Lecture
LOCATION:Moritz College of Law\, 55 W 12th Ave\, Columbus\, Ohio\, 43210\, 
 United States
GEO:39.9962443;-83.00828039999999
X-APPLE-STRUCTURED-LOCATION;VALUE=URI;X-ADDRESS=55 W 12th Ave\, Columbus\, 
 Ohio\, 43210\, United States;X-APPLE-RADIUS=100;X-TITLE=Moritz College of 
 Law:geo:39.9962443,-83.00828039999999
END:VEVENT
BEGIN:VTIMEZONE
TZID:America/Detroit
X-LIC-LOCATION:America/Detroit
BEGIN:DAYLIGHT
DTSTART:20150308T030000
TZOFFSETFROM:-0500
TZOFFSETTO:-0400
TZNAME:EDT
END:DAYLIGHT
END:VTIMEZONE
END:VCALENDAR