BEGIN:VCALENDAR
VERSION:2.0
PRODID:-//wp-events-plugin.com//7.0.5//EN
TZID:America/Detroit
X-WR-TIMEZONE:America/Detroit
BEGIN:VEVENT
UID:588@test.arabamerica.com
DTSTART;TZID=America/Detroit:20150310T120000
DTEND;TZID=America/Detroit:20150310T133000
DTSTAMP:20150309T032609Z
URL:https://test.arabamerica.com/events/stop-isis-stop-terrorism/
SUMMARY:Stop ISIS...Stop Terrorism
DESCRIPTION:DISTRICT OF COLUMBIA\n\nWe- Jabbar &amp\; AbdulAmeer\, will kic
 k off our campaign that aims at urging the policy and decision makers in W
 ashington along with the international community to force ISIS to stop des
 troying the mankind's heritage in Iraq. On Tuesday\, March 10 there will b
 e a PEACEFUL MARCH IN FRONT OF THE WHITE HOUSE!\n\n&nbsp\;
ATTACH;FMTTYPE=image/jpeg:https://test.arabamerica.com/wp-content/uploads/
 2015/03/STOP-ISIS-FLYER2.jpg
CATEGORIES:Advocacy
LOCATION:The White House\, 1600 Pennsylvania Ave NW\, Washington\, District
  of Columbia\, United States
GEO:38.8977332;-77.03653050000003
X-APPLE-STRUCTURED-LOCATION;VALUE=URI;X-ADDRESS=1600 Pennsylvania Ave NW\, 
 Washington\, District of Columbia\, United States;X-APPLE-RADIUS=100;X-TIT
 LE=The White House:geo:38.8977332,-77.03653050000003
END:VEVENT
BEGIN:VTIMEZONE
TZID:America/Detroit
X-LIC-LOCATION:America/Detroit
BEGIN:DAYLIGHT
DTSTART:20150308T030000
TZOFFSETFROM:-0500
TZOFFSETTO:-0400
TZNAME:EDT
END:DAYLIGHT
END:VTIMEZONE
END:VCALENDAR