BEGIN:VCALENDAR
VERSION:2.0
PRODID:-//wp-events-plugin.com//7.0.5//EN
TZID:America/Detroit
X-WR-TIMEZONE:America/Detroit
BEGIN:VEVENT
UID:888@test.arabamerica.com
DTSTART;TZID=America/Detroit:20150426T183000
DTEND;TZID=America/Detroit:20150426T213000
DTSTAMP:20150406T155502Z
URL:https://test.arabamerica.com/events/spring-hafla-2015-in-va/
SUMMARY:Spring Hafla 2015 in VA
DESCRIPTION:VIRGINIA\n\nWelcome the warmth of Spring with amazing dancing f
 rom Janna's International Dance Studio and the Beledi Club of William &amp
 \; Mary at our Spring Hafla 2015.\n\n
ATTACH;FMTTYPE=image/jpeg:https://test.arabamerica.com/wp-content/uploads/
 2015/04/11074435_10152970023737771_4449854638797851601_n.jpg
CATEGORIES:Community,Dance/Folk
LOCATION:The College of William and Mary\, 200 Stadium Dr\, Williamsburg\, 
 VA\, 23186\, United States
GEO:37.2716888;-76.7142144
X-APPLE-STRUCTURED-LOCATION;VALUE=URI;X-ADDRESS=200 Stadium Dr\, Williamsbu
 rg\, VA\, 23186\, United States;X-APPLE-RADIUS=100;X-TITLE=The College of 
 William and Mary:geo:37.2716888,-76.7142144
END:VEVENT
BEGIN:VTIMEZONE
TZID:America/Detroit
X-LIC-LOCATION:America/Detroit
BEGIN:DAYLIGHT
DTSTART:20150308T030000
TZOFFSETFROM:-0500
TZOFFSETTO:-0400
TZNAME:EDT
END:DAYLIGHT
END:VTIMEZONE
END:VCALENDAR