BEGIN:VCALENDAR
VERSION:2.0
PRODID:-//wp-events-plugin.com//7.0.5//EN
TZID:America/Detroit
X-WR-TIMEZONE:America/Detroit
BEGIN:VEVENT
UID:866@test.arabamerica.com
DTSTART;TZID=America/Detroit:20150408T190000
DTEND;TZID=America/Detroit:20150408T213000
DTSTAMP:20150403T145454Z
URL:https://test.arabamerica.com/events/special-screening-omar/
SUMMARY:Special Screening: OMAR
DESCRIPTION:NEBRASKA\n\nOn Wednesday\, April 8\, at 7 pm\, Film Streams and
  the Middle East Cultural and Educational Services of Omaha\, will present
  a special screening of OMAR at the Ruth Sokolof Theater\, followed by a p
 anel discussion with area college students familiar with the various viewp
 oints presented in the film. This Oscar-nominated film from director Hany 
 Abu-Assad is both a thriller and a romance set against the tension of the 
 Arab-Israeli conflict.\n\nOmar (Adam Bakri) is a Palestinian baker who rou
 tinely climbs over the separation wall running through Jerusalem to meet u
 p with his girlfriend Nadja (Leem Lubany). By night\, he’s either a free
 dom fighter or a terrorist — depending on who you ask — ready to risk 
 his life to strike at the Israeli military with his childhood friends Tare
 k (Eyad Hourani) and Amjad (Samer Bisharat). Arrested after the killing of
  an Israeli soldier and tricked into an admission of guilt by association\
 , he agrees to work as an informant. So begins a dangerous game—is he pl
 aying his Israeli handler (Waleed F. Zuaiter) or will he really betray his
  cause? And who can he trust on either side?\n\nPalestinian filmmaker Abu-
 Assad (PARADISE NOW) has made a dynamic\, action-packed drama about the in
 soluable moral dilemmas and tough choices facing those on the frontlines o
 f a conflict that shows no sign of letting up. In 2014\, the film was nomi
 nated for the Best Foreign Feature Academy Award.
ATTACH;FMTTYPE=image/jpeg:https://test.arabamerica.com/wp-content/uploads/
 2015/04/11047921_10152758625526342_6880979500019172519_n.jpg
CATEGORIES:Film
LOCATION:Film Streams\, 1340 Mike Fahey St\, Omaha\, Nebraska\, 68102\, Uni
 ted States
GEO:41.2659653;-95.93423200000001
X-APPLE-STRUCTURED-LOCATION;VALUE=URI;X-ADDRESS=1340 Mike Fahey St\, Omaha\
 , Nebraska\, 68102\, United States;X-APPLE-RADIUS=100;X-TITLE=Film Streams
 :geo:41.2659653,-95.93423200000001
END:VEVENT
BEGIN:VTIMEZONE
TZID:America/Detroit
X-LIC-LOCATION:America/Detroit
BEGIN:DAYLIGHT
DTSTART:20150308T030000
TZOFFSETFROM:-0500
TZOFFSETTO:-0400
TZNAME:EDT
END:DAYLIGHT
END:VTIMEZONE
END:VCALENDAR