BEGIN:VCALENDAR
VERSION:2.0
PRODID:-//wp-events-plugin.com//7.0.5//EN
TZID:America/Detroit
X-WR-TIMEZONE:America/Detroit
BEGIN:VEVENT
UID:240@test.arabamerica.com
DTSTART;TZID=America/Detroit:20150209T180000
DTEND;TZID=America/Detroit:20150209T190000
DTSTAMP:20150203T234135Z
URL:https://test.arabamerica.com/events/security-society-gaza-police-encou
 nters-egyptian-rule/
SUMMARY:Security Society in Gaza: Police Encounters under Egyptian Rule
DESCRIPTION:RHODE ISLAND\n\nSpeaker: Ilana Feldman\, Associate Professor 
 of Anthropology and International Affairs\, George Washington University\n
 \nThis event will be live-streamed. A recording of the lecture will be pos
 ted to our website after the event.\n\nThis talk explores the dynamics of 
 policing and security in the Gaza Strip during the period of Egyptian Admi
 nistration (1948-67). Drawing on a rich and detailed archive\, I track a r
 ange of police encounters. Many such encounters were mundane\, including i
 nvestigation of petty crime. Many were evidently repressive\, including th
 e surveillance of political activity and speech. All were part of a broad 
 security milieu that helped to define governance\, political action\, and 
 life possibilities in Gaza in the years after the loss of Palestine. I use
  the analytic lens of “security society” to explore how policing both 
 operated as a mechanism of governance and control and provided opportuniti
 es for action and effect. Criminality\, politics\, and propriety were all 
 matters of concern for the police and the Gazan public.
ATTACH;FMTTYPE=image/jpeg:https://test.arabamerica.com/wp-content/uploads/
 2015/01/2-9-15-Security-Feldman-331x512.jpg
CATEGORIES:Lecture
LOCATION:Joukowsky Forum\, Watson Institute\, 111 Thayer St\, Providence\, 
 RI\, 02906\, United States
GEO:41.8244012;-71.39999160000002
X-APPLE-STRUCTURED-LOCATION;VALUE=URI;X-ADDRESS=111 Thayer St\, Providence\
 , RI\, 02906\, United States;X-APPLE-RADIUS=100;X-TITLE=Joukowsky Forum\, 
 Watson Institute:geo:41.8244012,-71.39999160000002
END:VEVENT
BEGIN:VTIMEZONE
TZID:America/Detroit
X-LIC-LOCATION:America/Detroit
BEGIN:STANDARD
DTSTART:20141102T010000
TZOFFSETFROM:-0400
TZOFFSETTO:-0500
TZNAME:EST
END:STANDARD
END:VTIMEZONE
END:VCALENDAR