BEGIN:VCALENDAR
VERSION:2.0
PRODID:-//wp-events-plugin.com//7.0.5//EN
TZID:America/Detroit
X-WR-TIMEZONE:America/Detroit
BEGIN:VEVENT
UID:593@test.arabamerica.com
DTSTART;TZID=America/Detroit:20150312T193000
DTEND;TZID=America/Detroit:20150312T213000
DTSTAMP:20150309T035350Z
URL:https://test.arabamerica.com/events/screening-of-madam-parliamentarian
 /
SUMMARY:Screening of Madam Parliamentarian
DESCRIPTION:Maryland\n\nAuditorium - Although Lebanon is considered the mos
 t progressive nation in the Arab world and women have been voting since th
 e 1950s in fairly equal proportion to men\, only four of the 128 Lebanese 
 parliament members today are women. This film explores the reasons why and
  illustrates ways in which women view\, and are viewed in\, their roles of
  active participation in Lebanon’s political life.\n\nA discussion with 
 filmmaker Rouane Itani will follow the screening.\n\nScreened in partnersh
 ip with Docs In Progress.\n\nFree.\n\nVisit the Madame Parliamentarian 
 Facebook page or website atwww.madameparliamentarian.com to learn more ab
 out the film.\n\n***\nThis event is part of the City of Takoma Park's "We 
 Are Takoma" series. We Are Takoma offers a range of programming featuring 
 the talents of local\, regional and international performers. The series p
 rovides the community with an affordable cultural experience and an opport
 unity to engage with performers. Events include monthly poetry readings\, 
 an ongoing film series\, art openings\, concerts\, dance performances\, an
 d more\, much more.
ATTACH;FMTTYPE=image/jpeg:https://test.arabamerica.com/wp-content/uploads/
 2015/03/10945635_829983917060784_5437230036883798339_n.jpg
CATEGORIES:Film
LOCATION:City of Takoma Park\, MD - Municipal Government\, 7500 Maple Ave\,
  Takoma Park\, MD\, 20912\, United States
GEO:38.9815535;-77.0105211
X-APPLE-STRUCTURED-LOCATION;VALUE=URI;X-ADDRESS=7500 Maple Ave\, Takoma Par
 k\, MD\, 20912\, United States;X-APPLE-RADIUS=100;X-TITLE=City of Takoma P
 ark\, MD - Municipal Government:geo:38.9815535,-77.0105211
END:VEVENT
BEGIN:VTIMEZONE
TZID:America/Detroit
X-LIC-LOCATION:America/Detroit
BEGIN:DAYLIGHT
DTSTART:20150308T030000
TZOFFSETFROM:-0500
TZOFFSETTO:-0400
TZNAME:EDT
END:DAYLIGHT
END:VTIMEZONE
END:VCALENDAR