BEGIN:VCALENDAR
VERSION:2.0
PRODID:-//wp-events-plugin.com//7.0.5//EN
TZID:America/Detroit
X-WR-TIMEZONE:America/Detroit
BEGIN:VEVENT
UID:869@test.arabamerica.com
DTSTART;TZID=America/Detroit:20150417T183000
DTEND;TZID=America/Detroit:20150417T213000
DTSTAMP:20150403T150900Z
URL:https://test.arabamerica.com/events/screening-of-documentary-the-squar
 e/
SUMMARY:Screening of Documentary 'The Square'
DESCRIPTION:DISTRICT OF COLUMBIA\n\nHi there\, we are going to have a scree
 ning of the fantastic documentary 'The Square' about the Arab Spring and t
 he aftermath in Cario\, Egypt by looking at events in Tahrir Square.\n\n**
 Free pizza will be provided.** We will also have speakers and a Q&amp\;A s
 ession about the movie. It will be at 805 21st Street NW\, Room 807.\n\nTh
 is event is co-hosted by Amnesty International DC Capitol Hill Group \,A
 mnesty MENA DC\, and Amnesty International at the George Washington Unive
 rsity\n\n
ATTACH;FMTTYPE=image/jpeg:https://test.arabamerica.com/wp-content/uploads/
 2015/04/11050305_830137063735244_4586595980083853276_n.jpg
CATEGORIES:Film
LOCATION:GW School of Media and Public Affairs\, 805 21st Street\, NW\, Was
 hington\, DC\, 20052\, United States
GEO:38.899915;-77.04620599999998
X-APPLE-STRUCTURED-LOCATION;VALUE=URI;X-ADDRESS=805 21st Street\, NW\, Wash
 ington\, DC\, 20052\, United States;X-APPLE-RADIUS=100;X-TITLE=GW School o
 f Media and Public Affairs:geo:38.899915,-77.04620599999998
END:VEVENT
BEGIN:VTIMEZONE
TZID:America/Detroit
X-LIC-LOCATION:America/Detroit
BEGIN:DAYLIGHT
DTSTART:20150308T030000
TZOFFSETFROM:-0500
TZOFFSETTO:-0400
TZNAME:EDT
END:DAYLIGHT
END:VTIMEZONE
END:VCALENDAR