BEGIN:VCALENDAR
VERSION:2.0
PRODID:-//wp-events-plugin.com//7.0.5//EN
TZID:America/Detroit
X-WR-TIMEZONE:America/Detroit
BEGIN:VEVENT
UID:902@test.arabamerica.com
DTSTART;TZID=America/Detroit:20150422T163000
DTEND;TZID=America/Detroit:20150422T180000
DTSTAMP:20150406T171911Z
URL:https://test.arabamerica.com/events/scowcroft-institute-of-internation
 al-affairs/
SUMMARY:Scowcroft Institute of International Affairs
DESCRIPTION:NORTH CAROLINA\n\nDavid H. Schanzer\, Associate Professor of th
 e Practice\, Sanford School of Public Policy\, Duke University\, and Direc
 tor of the Triangle Center on Terrorism and Homeland Security\n\nThe world
  has been shocked by the seemingly sudden emergence of the “so-called Is
 lamic State” in Iraq and Syria (aka ISIS). This group has changed the di
 scourse on the post-Arab Spring Middle East\, obscuring the lines between 
 friends and enemies and opening another chapter in America’s “war on t
 error.” David Schanzer will address its origins and ideology\, and field
  questions on its meaning for future U.S. policy in the region.\n\nTIME: 4
 :30 to 6:00 p.m.\n\nAll Humanities in Action events take place at Flyleaf 
 Books in Chapel Hill. There are no preparatory readings for these events.
 \n\nProgram Tuition: Register ahead of time and pay $18.00 per program or 
 pay only $8 if you are a member of the UNC General Alumni Association (GAA
 ). To check your membership status or to join the GAA\, please visitalumni
 .unc.edu or call 800.962.0742. GAA membership is open to all UNC alumni a
 nd friends. Tuition is $20.00 for everyone paying at the door.\n\nFlyleaf 
 Books: Location and Contact Info\n\n752 Martin Luther King Jr. Blvd (Histo
 ric Airport Rd)\nChapel Hill\, NC 27514\nNext to The Root Cellar (Formerly
  Foster’s Market)\nMonday – Saturday: 9-9\nSunday: 11-6\nPhone# 919-94
 2-7373\ninfo(at)flyleafbooks.com\nhttp://www.flyleafbooks.com/\n\n
ATTACH;FMTTYPE=image/jpeg:https://test.arabamerica.com/wp-content/uploads/
 2015/04/10153633_10154891838125247_9143861094429572281_n.jpg
CATEGORIES:Lecture
LOCATION:Flyleaf Books\, 752 Martin Luther King Jr Blvd\, Chapel Hill\, NC\
 , 27514\, United States
GEO:35.9243634;-79.05333639999998
X-APPLE-STRUCTURED-LOCATION;VALUE=URI;X-ADDRESS=752 Martin Luther King Jr B
 lvd\, Chapel Hill\, NC\, 27514\, United States;X-APPLE-RADIUS=100;X-TITLE=
 Flyleaf Books:geo:35.9243634,-79.05333639999998
END:VEVENT
BEGIN:VTIMEZONE
TZID:America/Detroit
X-LIC-LOCATION:America/Detroit
BEGIN:DAYLIGHT
DTSTART:20150308T030000
TZOFFSETFROM:-0500
TZOFFSETTO:-0400
TZNAME:EDT
END:DAYLIGHT
END:VTIMEZONE
END:VCALENDAR