BEGIN:VCALENDAR
VERSION:2.0
PRODID:-//wp-events-plugin.com//7.0.5//EN
TZID:America/Detroit
X-WR-TIMEZONE:America/Detroit
BEGIN:VEVENT
UID:876@test.arabamerica.com
DTSTART;TZID=America/Detroit:20150412T183000
DTEND;TZID=America/Detroit:20150412T203000
DTSTAMP:20150403T154017Z
URL:https://test.arabamerica.com/events/san-diego-premiere-we-cannot-go-th
 ere-now-my-dear/
SUMMARY:San Diego Premiere: We Cannot Go There Now\, My Dear
DESCRIPTION:CALIFORNIA\n\nExclusive! San Diego Premiere!\n“We Cannot Go T
 here Now\, My Dear”\nA New Film by Carol Mansour about Palestinian Refug
 ees from Syria\nSunday April 12\, 2015 6:30 PM at Al-Awda National Center 
 San Diego
ATTACH;FMTTYPE=image/jpeg:https://test.arabamerica.com/wp-content/uploads/
 2015/04/10980194_10153136417015432_5476785725974369903_o.jpg
CATEGORIES:Film
LOCATION:Al Awda\, 2720 Loker Ave West Suite J\, Carlsbad\, CA\, 92010\, Un
 ited States
GEO:33.1338941;-117.25975460000001
X-APPLE-STRUCTURED-LOCATION;VALUE=URI;X-ADDRESS=2720 Loker Ave West Suite J
 \, Carlsbad\, CA\, 92010\, United States;X-APPLE-RADIUS=100;X-TITLE=Al Awd
 a:geo:33.1338941,-117.25975460000001
END:VEVENT
BEGIN:VTIMEZONE
TZID:America/Detroit
X-LIC-LOCATION:America/Detroit
BEGIN:DAYLIGHT
DTSTART:20150308T030000
TZOFFSETFROM:-0500
TZOFFSETTO:-0400
TZNAME:EDT
END:DAYLIGHT
END:VTIMEZONE
END:VCALENDAR