BEGIN:VCALENDAR
VERSION:2.0
PRODID:-//wp-events-plugin.com//7.0.5//EN
TZID:America/Detroit
X-WR-TIMEZONE:America/Detroit
BEGIN:VEVENT
UID:152@test.arabamerica.com
DTSTART;TZID=America/Detroit:20150204T130000
DTEND;TZID=America/Detroit:20150204T140000
DTSTAMP:20150203T231244Z
URL:https://test.arabamerica.com/events/role-u-s-churches-bds-movement/
SUMMARY:The Role of the U.S. Churches in the BDS Movement
DESCRIPTION:WASHINGTON\, DC\n"The role of the U.S. churches in the BDS move
 ment"\nwith\nPhilip Farah\nFounder\nWashington Interfaith Alliance for Mid
 dle East Peace\n\nDavid Wildman\nExecutive Secretary for Human Rights &amp
 \; Racial Justice\nGeneral Board of Global Ministries\, United Methodist C
 hurch\n\n\nA light lunch is served at 12:30 p.m. Panel begins promptly at 
 1:00 p.m.\n\nSpiritual groups have often been at the frontlines of human r
 ights movements in the U.S. In recent years there have been dramatic posit
 ions taken by faith-based groups such as the United Methodist Church\, the
  Presbyterian Church\, the United Church of Christ and the U.S. Mennonite 
 Church\, to divest from corporations that aid the Israeli occupation and c
 ontribute to human rights abuses against Palestinians. This panel looks at
  the role and significance of the churches in the Boycott\, Divestment and
  Sanctions (BDS) movement\, the origins of this role\, their landmark achi
 evements and challenges along the way. Our panelists include Philip Farah 
 of the Washington Interfaith Alliance for Middle East Peace and David Wild
 man of the United Methodist Church's General Board of Global Ministries.
ATTACH;FMTTYPE=image/jpeg:https://test.arabamerica.com/wp-content/uploads/
 2015/01/50121.jpeg
CATEGORIES:Lecture
LOCATION:The Jerusalem Fund\, 2425 Virginia Ave NW\, Washington\, DC\, Unit
 ed States
GEO:38.8988618;-77.0525414
X-APPLE-STRUCTURED-LOCATION;VALUE=URI;X-ADDRESS=2425 Virginia Ave NW\, Wash
 ington\, DC\, United States;X-APPLE-RADIUS=100;X-TITLE=The Jerusalem Fund:
 geo:38.8988618,-77.0525414
END:VEVENT
BEGIN:VTIMEZONE
TZID:America/Detroit
X-LIC-LOCATION:America/Detroit
BEGIN:STANDARD
DTSTART:20141102T010000
TZOFFSETFROM:-0400
TZOFFSETTO:-0500
TZNAME:EST
END:STANDARD
END:VTIMEZONE
END:VCALENDAR