BEGIN:VCALENDAR
VERSION:2.0
PRODID:-//wp-events-plugin.com//7.0.5//EN
TZID:America/Detroit
X-WR-TIMEZONE:America/Detroit
BEGIN:VEVENT
UID:243@test.arabamerica.com
DTSTART;TZID=America/Detroit:20150227T173000
DTEND;TZID=America/Detroit:20150227T190000
DTSTAMP:20150128T001712Z
URL:https://test.arabamerica.com/events/return-haifa-maloul-celebrates-des
 truction-film-screening/
SUMMARY:“Return to Haifa” and “Ma’loul Celebrates its Destruction
 ” Film Screening
DESCRIPTION:Screening of Return to Haifa\, director: Kasem Hawal (1982)\,
  Palestine (Arabic\, English subtitles\, 84 min)\nBased on Ghassan Kanafan
 i\nand Ma’loul Celebrates its Destruction\, director: Michel Kheilifi 
 (1984)\, Israel/Palestine (Arabic\, English subtitles\, 30 min)\nPresented
  by Ariella Azoulay\n\nThis event is part of  “1948 – Once Upon a Pal
 estine”\, a film series curated by Ariella Azoulay\, Assistant Professo
 r of Comparative Literature and Modern Culture.\n\nAbout Return to Haifa:\
 n\nReturn to Haifa is based on Kanafani’s novel the plot of which takes 
 place in 1967\, when Palestinian refugees living in the newly occupied ter
 ritories had an opportunity to visit the places from which they had been e
 xpelled in 1948. Saeed and Safiyya\, a Palestinian couple expelled from Ha
 ifa in 1948\, visit the home that had been their own. Miriam\, a Holocaust
  survivor and now a Jewish Israeli citizen who lives in their house\, lets
  them in. She moved there with her husband shortly after the Palestinian c
 ouple had been uprooted. The Palestinian couple returns to Haifa hoping to
  discover something about their baby\, Khaldun\, whom they had left at hom
 e that April morning in 1948\, not realizing that neither of them would be
  able to return. The abandoned baby had been adopted by Miriam and her hus
 band who gave him a Hebrew name – Dov\, now a soldier in the Israeli arm
 y. This tragic encounter depicted by the movie emblematizes the Nakba’s 
 being not only the tragedy of the Palestinian people but also of the Israe
 li Jews who cannot escape confronting this past and becoming accountable f
 or it.\n\nAbout Ma’loul Celebrates its Destruction:\nMa’aloul\, locate
 d 6 kilometers from Nazareth was destroyed in 1948 and its residents were 
 not allowed to return but rather declared by the State “present absentee
 s\,” not allowed to have their property back\, just as were Palestinians
  expelled out of the country. This movie makes even more explicit the assu
 mption that the history of Israel cannot be narrated without acknowledging
  the Nakba\, the expulsion of Palestinians and their dispossession. The mo
 vie these internally displaced Palestinians’ testimonies about the destr
 uction of their village Ma’aloul and their dispossession and the curricu
 la taught in a history lesson in Arab schools\, compelled by the state to 
 teach the Zionist version of the events.
ATTACH;FMTTYPE=image/jpeg:https://test.arabamerica.com/wp-content/uploads/
 2015/01/return-1948-spring-poster-copy-341x512.jpg
CATEGORIES:Film
LOCATION:Joukowsky Forum\, Watson Institute\, 111 Thayer St\, Providence\, 
 RI\, 02906\, United States
GEO:41.8244012;-71.39999160000002
X-APPLE-STRUCTURED-LOCATION;VALUE=URI;X-ADDRESS=111 Thayer St\, Providence\
 , RI\, 02906\, United States;X-APPLE-RADIUS=100;X-TITLE=Joukowsky Forum\, 
 Watson Institute:geo:41.8244012,-71.39999160000002
END:VEVENT
BEGIN:VTIMEZONE
TZID:America/Detroit
X-LIC-LOCATION:America/Detroit
BEGIN:STANDARD
DTSTART:20141102T010000
TZOFFSETFROM:-0400
TZOFFSETTO:-0500
TZNAME:EST
END:STANDARD
END:VTIMEZONE
END:VCALENDAR