BEGIN:VCALENDAR
VERSION:2.0
PRODID:-//wp-events-plugin.com//7.0.5//EN
TZID:America/Detroit
X-WR-TIMEZONE:America/Detroit
BEGIN:VEVENT
UID:899@test.arabamerica.com
DTSTART;TZID=America/Detroit:20150430T140000
DTEND;TZID=America/Detroit:20150430T154500
DTSTAMP:20150406T170751Z
URL:https://test.arabamerica.com/events/responding-to-isis-roundtable/
SUMMARY:Responding to ISIS Roundtable
DESCRIPTION:MICHIGAN\n\nThis roundtable considers the interplay between fai
 th\, foreign policy and recent events in the Middle East\, particularly as
  they relate to the recent formation and activity of ISIS in the region.
ATTACH;FMTTYPE=image/jpeg:https://test.arabamerica.com/wp-content/uploads/
 2015/04/10974_607733709327590_3530649078299430992_n.jpg
CATEGORIES:Lecture
LOCATION:Prince Conference Center\, 1800 E Beltline Ave SE\, Grand Rapids\,
  MI\, United States
GEO:42.9633599;-85.66808630000003
X-APPLE-STRUCTURED-LOCATION;VALUE=URI;X-ADDRESS=1800 E Beltline Ave SE\, Gr
 and Rapids\, MI\, United States;X-APPLE-RADIUS=100;X-TITLE=Prince Conferen
 ce Center:geo:42.9633599,-85.66808630000003
END:VEVENT
BEGIN:VTIMEZONE
TZID:America/Detroit
X-LIC-LOCATION:America/Detroit
BEGIN:DAYLIGHT
DTSTART:20150308T030000
TZOFFSETFROM:-0500
TZOFFSETTO:-0400
TZNAME:EDT
END:DAYLIGHT
END:VTIMEZONE
END:VCALENDAR