BEGIN:VCALENDAR
VERSION:2.0
PRODID:-//wp-events-plugin.com//7.0.5//EN
TZID:America/Detroit
X-WR-TIMEZONE:America/Detroit
BEGIN:VEVENT
UID:901@test.arabamerica.com
DTSTART;TZID=America/Detroit:20150415T180000
DTEND;TZID=America/Detroit:20150415T210000
DTSTAMP:20150406T171440Z
URL:https://test.arabamerica.com/events/putin-and-isis-the-two-enemies-of-
 the-west/
SUMMARY:Putin and ISIS: The Two Enemies of the West
DESCRIPTION:TEXAS\n\nOne of the French "New Philosophers\," writer Pascal 
 Bruckner came to prominence in the 1970's and 80's with his philosophic w
 ritings focusing on critiquing French society and culture. Join us in welc
 oming him in this lecture.\n\n\n\n&nbsp\;
ATTACH;FMTTYPE=image/jpeg:https://test.arabamerica.com/wp-content/uploads/
 2015/04/21155_10152781439878388_768090810872077746_n.jpg
CATEGORIES:Academic Lecture
LOCATION:Annenberg Presidential Conference Center\, 1002 George Bush Dr W\,
  College Station\, TX\, 77843\, United States
GEO:30.593254;-96.35224719999997
X-APPLE-STRUCTURED-LOCATION;VALUE=URI;X-ADDRESS=1002 George Bush Dr W\, Col
 lege Station\, TX\, 77843\, United States;X-APPLE-RADIUS=100;X-TITLE=Annen
 berg Presidential Conference Center:geo:30.593254,-96.35224719999997
END:VEVENT
BEGIN:VTIMEZONE
TZID:America/Detroit
X-LIC-LOCATION:America/Detroit
BEGIN:DAYLIGHT
DTSTART:20150308T030000
TZOFFSETFROM:-0500
TZOFFSETTO:-0400
TZNAME:EDT
END:DAYLIGHT
END:VTIMEZONE
END:VCALENDAR