BEGIN:VCALENDAR
VERSION:2.0
PRODID:-//wp-events-plugin.com//7.0.5//EN
TZID:America/Detroit
X-WR-TIMEZONE:America/Detroit
BEGIN:VEVENT
UID:904@test.arabamerica.com
DTSTART;TZID=America/Detroit:20150415T190000
DTEND;TZID=America/Detroit:20150415T213000
DTSTAMP:20150406T172758Z
URL:https://test.arabamerica.com/events/prof-mohammed-wattad-isis-is-it-ji
 had-or-terrorism/
SUMMARY:Prof. Mohammed Wattad - "ISIS - Is it Jihad or Terrorism?
DESCRIPTION:OKLAHOMA\n\nOn Wednesday\, April 15\, come see Prof. Mohammed W
 attad of UCI discuss Islamic law and international law as they relate to t
 he Islamic State. Prof. Wattad is a legal scholar specializing in internat
 ional and comparative criminal law\, comparative constitutional law\, inte
 rnational law\, and legal issues surrounding war\, torture\, and terrorism
 .\n\nThe lecture will be held at 7pm in the Mary Eddy and Fred Jones Audit
 orium of the Fred Jones\, Jr.\, Museum of Art.\n\n
ATTACH;FMTTYPE=image/jpeg:https://test.arabamerica.com/wp-content/uploads/
 2015/04/11050751_832889293450119_8334577557076229771_n-1.jpg
CATEGORIES:Academic Lecture
LOCATION:Fred Jones Jr. Museum of Art\, 555 Elm Ave\, Norman\, Oklahoma\, 7
 3019\, United States
GEO:35.2107414;-97.44746789999999
X-APPLE-STRUCTURED-LOCATION;VALUE=URI;X-ADDRESS=555 Elm Ave\, Norman\, Okla
 homa\, 73019\, United States;X-APPLE-RADIUS=100;X-TITLE=Fred Jones Jr. Mus
 eum of Art:geo:35.2107414,-97.44746789999999
END:VEVENT
BEGIN:VTIMEZONE
TZID:America/Detroit
X-LIC-LOCATION:America/Detroit
BEGIN:DAYLIGHT
DTSTART:20150308T030000
TZOFFSETFROM:-0500
TZOFFSETTO:-0400
TZNAME:EDT
END:DAYLIGHT
END:VTIMEZONE
END:VCALENDAR