BEGIN:VCALENDAR
VERSION:2.0
PRODID:-//wp-events-plugin.com//7.0.5//EN
TZID:America/Detroit
X-WR-TIMEZONE:America/Detroit
BEGIN:VEVENT
UID:870@test.arabamerica.com
DTSTART;TZID=America/Detroit:20150408T181500
DTEND;TZID=America/Detroit:20150408T204500
DTSTAMP:20150403T151232Z
URL:https://test.arabamerica.com/events/prince-of-egypt-screening-in-adama
 h/
SUMMARY:Prince of Egypt Screening in Adamah
DESCRIPTION:WISCONSIN\n\nCome watch the Prince of Egypt in Adamah Adamah- 
 Neighborhood Table!
ATTACH;FMTTYPE=image/jpeg:https://test.arabamerica.com/wp-content/uploads/
 2015/04/10408536_10155372200845252_2020480719661869649_n.jpg
CATEGORIES:Film
LOCATION:University of Wisconsin\, 611 Langdon St\, Madison\, Wisconsin\, 5
 3703\, United States
GEO:43.0755461;-89.39599550000003
X-APPLE-STRUCTURED-LOCATION;VALUE=URI;X-ADDRESS=611 Langdon St\, Madison\, 
 Wisconsin\, 53703\, United States;X-APPLE-RADIUS=100;X-TITLE=University of
  Wisconsin:geo:43.0755461,-89.39599550000003
END:VEVENT
BEGIN:VTIMEZONE
TZID:America/Detroit
X-LIC-LOCATION:America/Detroit
BEGIN:DAYLIGHT
DTSTART:20150308T030000
TZOFFSETFROM:-0500
TZOFFSETTO:-0400
TZNAME:EDT
END:DAYLIGHT
END:VTIMEZONE
END:VCALENDAR