BEGIN:VCALENDAR
VERSION:2.0
PRODID:-//wp-events-plugin.com//7.0.5//EN
TZID:America/Detroit
X-WR-TIMEZONE:America/Detroit
BEGIN:VEVENT
UID:938@test.arabamerica.com
DTSTART;TZID=America/Detroit:20150506T193000
DTEND;TZID=America/Detroit:20150506T213000
DTSTAMP:20150408T165344Z
URL:https://test.arabamerica.com/events/philadelphia-free-library/
SUMMARY:Philadelphia Free Library
DESCRIPTION:PENNSYLVANIA\n\nCome out and meet the author of Children of the
  Stone\, Sandy Tolan\,
ATTACH;FMTTYPE=image/jpeg:https://test.arabamerica.com/wp-content/uploads/
 2015/04/10854277_817977598256831_3142514198527868378_o2.jpg
CATEGORIES:Books/Literature,Community
LOCATION:1901 Vine Street\, 1901 Vine Street\, Philadelphia\, PA\, United S
 tates
GEO:39.9592782;-75.17112170000001
X-APPLE-STRUCTURED-LOCATION;VALUE=URI;X-ADDRESS=1901 Vine Street\, Philadel
 phia\, PA\, United States;X-APPLE-RADIUS=100;X-TITLE=1901 Vine Street:geo:
 39.9592782,-75.17112170000001
END:VEVENT
BEGIN:VTIMEZONE
TZID:America/Detroit
X-LIC-LOCATION:America/Detroit
BEGIN:DAYLIGHT
DTSTART:20150308T030000
TZOFFSETFROM:-0500
TZOFFSETTO:-0400
TZNAME:EDT
END:DAYLIGHT
END:VTIMEZONE
END:VCALENDAR