BEGIN:VCALENDAR
VERSION:2.0
PRODID:-//wp-events-plugin.com//7.0.5//EN
TZID:America/Detroit
X-WR-TIMEZONE:America/Detroit
BEGIN:VEVENT
UID:940@test.arabamerica.com
DTSTART;TZID=America/Detroit:20150411T213000
DTEND;TZID=America/Detroit:20150411T233000
DTSTAMP:20150408T170416Z
URL:https://test.arabamerica.com/events/performing-star-singer-tony-jalbou
 t-alongside-maestro-ali-kurdi-milad-daher/
SUMMARY:Performing Star Singer Tony Jalbout! Alongside Maestro Ali Kurdi & 
 Milad Daher
DESCRIPTION:CANADA\n\nJoin Us Saturday April 11- 2015 @ The New AMBROSIA! !
  The New Stylish &amp\; Family Atmosphere Hot Spot In The GTA!! For The Be
 st In Middle Eastern Entertainment!! Performing Star Singer Tony Jalbout!
  Alongside Maestro Ali Kurdi &amp\; Milad Daher!! limited Seating RSVP Cal
 l 905-625-9966
ATTACH;FMTTYPE=image/jpeg:https://test.arabamerica.com/wp-content/uploads/
 2015/04/10500422_936139839750952_8621970025951127354_n.jpg
CATEGORIES:Community,Music/Folk/World
LOCATION:Ambrosia Resto\,  5835 Dixie Road\, Mississauga\, ON\, L4W 4W9\, C
 anada
GEO:43.6521381;-79.64302800000002
X-APPLE-STRUCTURED-LOCATION;VALUE=URI;X-ADDRESS= 5835 Dixie Road\, Mississa
 uga\, ON\, L4W 4W9\, Canada;X-APPLE-RADIUS=100;X-TITLE=Ambrosia Resto:geo:
 43.6521381,-79.64302800000002
END:VEVENT
BEGIN:VTIMEZONE
TZID:America/Detroit
X-LIC-LOCATION:America/Detroit
BEGIN:DAYLIGHT
DTSTART:20150308T030000
TZOFFSETFROM:-0500
TZOFFSETTO:-0400
TZNAME:EDT
END:DAYLIGHT
END:VTIMEZONE
END:VCALENDAR