BEGIN:VCALENDAR
VERSION:2.0
PRODID:-//wp-events-plugin.com//7.0.5//EN
TZID:America/Detroit
X-WR-TIMEZONE:America/Detroit
BEGIN:VEVENT
UID:236@test.arabamerica.com
DTSTART;TZID=America/Detroit:20150127T120000
DTEND;TZID=America/Detroit:20150127T140000
DTSTAMP:20150127T090256Z
URL:https://test.arabamerica.com/events/path-forward-restoring-democracy-e
 gypt/
SUMMARY:The Path Forward for Restoring Democracy in Egypt
DESCRIPTION:A light lunch will be served between 12:00 and 12:30\n\nPanelis
 ts will be available for one-on-one interviews with the media following th
 e event.\n\n\n&nbsp\;\n\nParticipants: \n\n&nbsp\;\n Dr. Sarwat Nafei\nS
 peaker of the Egyptian Parliament in Exile\n&nbsp\;\nDr. Maha Azzam\n Hea
 d of the Egyptian Revolutionary Council\n&nbsp\;\nDr. Mohamed Heshmat\nDep
 uty of the Egyptian Parliament in Exile\n&nbsp\;\nDr. Abdul-Mawgoud Darder
 y\nForeign Relations Committee Chair of 2012 Egyptian Parliament\n&nbsp\;\
 nJudge Walid Sharabi\nSecretary General of the Egyptian Revolutionary Coun
 cil\n&nbsp\;\n\n&nbsp\;\nModerator:\n\n Dr. Radwan Masmoudi\nCenter for t
 he Study of Islam &amp\; Democracy (CSID)\n\nThe latest human rights repor
 ts on Egypt paint a gloomy picture. Recently\, Keith Harper\, U.S. ambassa
 dor to the UNHRC\, said Egypt had violated "freedoms of expression\, peace
 ful assembly and association [and] deprived thousands of Egyptians of fai
 r trial guarantees." A delegation of the leaders of Egypt's parliament in
  exile and representatives of Egyptian opposition groups are visiting Wa
 shington DC to engage with policymakers\, congress\, think tanks\, academi
 a\, and others to discuss "The Path Forward for Restoring Democracy in Egy
 pt." These prominent opposition leaders--some of whom are linked to politi
 cal parties and some of whom are independent--are here to give their asses
 sment of the current situation and offer their views on how to put the cou
 ntry back on track toward a true democratic transition with good governanc
 e and respect for human rights.\n\n&nbsp\;
ATTACH;FMTTYPE=image/jpeg:https://test.arabamerica.com/wp-content/uploads/
 2015/01/1730.jpg
CATEGORIES:Community
LOCATION:National Press Club\, 529 14th Street Northwest  (13th floor Ballr
 oom)\, Washington\, DC\, United States
GEO:38.9071923;-77.03687070000001
X-APPLE-STRUCTURED-LOCATION;VALUE=URI;X-ADDRESS=529 14th Street Northwest  
 (13th floor Ballroom)\, Washington\, DC\, United States;X-APPLE-RADIUS=100
 ;X-TITLE=National Press Club:geo:38.9071923,-77.03687070000001
END:VEVENT
BEGIN:VTIMEZONE
TZID:America/Detroit
X-LIC-LOCATION:America/Detroit
BEGIN:STANDARD
DTSTART:20141102T010000
TZOFFSETFROM:-0400
TZOFFSETTO:-0500
TZNAME:EST
END:STANDARD
END:VTIMEZONE
END:VCALENDAR