BEGIN:VCALENDAR
VERSION:2.0
PRODID:-//wp-events-plugin.com//7.0.5//EN
TZID:America/Detroit
X-WR-TIMEZONE:America/Detroit
BEGIN:VEVENT
UID:932@test.arabamerica.com
DTSTART;TZID=America/Detroit:20150502T090000
DTEND;TZID=America/Detroit:20150502T130000
DTSTAMP:20150408T163310Z
URL:https://test.arabamerica.com/events/palestine-and-zion-the-journey-for
 -civil-rights/
SUMMARY:Palestine and Zion: The Journey For Civil Rights
DESCRIPTION:DISTRICT OF COLUMBIA\n\n&nbsp\;\n\n  Sabeel DC Metro ** 4th
  Annual Spring Program\nPALESTINE AND ZION:\n  THE JOURNEY FOR CIVIL RI
 GHTS\n**Exploring ways that African American Christians &amp\; churches ca
 n encounter and respond to the suffering and discrimination experienced ev
 ery day by Palestinians living in the Holy Land\n**Keynote Speakers:\n  
          **Rev. Graylan S. Hagler\nSenior Pastor\, Plymouth Congr
 egational UCC\, Washington\, DC\n           **Rev. Dr. Heber M.
  Brown III\n Senior Pastor\, Pleasant Hope Baptist Church\, Baltimore\, M
 D\n **with a panel featuring Palestinian &amp\; Jewish viewpoints and e
 xperiences\n           Registration:$20 (includes catered lunc
 h)\n**ONLINE REGISTRATION: www.SabeelDCMetro.brownpapertickets.com\n**MAI
 L-IN REGISTRATION:Send name\, address\, e-mail\, phone\, &amp\; check
  for $20 payable to “Justice for Palestine-Israel” to:  Monica Bu
 rnett\, Treasurer\, 13616 Wendover Rd.\, Silver Spring\, MD 20904.\nContac
 ts:  Paul Verduin phverduin@gmail.com -- 301-518-5551\; or\n  Rev. 
 Kenneth H. King\, newhopebucc@gmail.com – 240-547-5054\nEVERYONE IS W
 ELCOME!   See also our website: www.sabeeldc.org
ATTACH;FMTTYPE=image/jpeg:https://test.arabamerica.com/wp-content/uploads/
 2015/04/freedom-riders-eng-1-300x160.jpg
CATEGORIES:Lecture
LOCATION:Sixth Presbyterian Church\, 5413 16th Street\, NW\, Washington\, D
 C\, United States
GEO:38.9558097;-77.03569800000002
X-APPLE-STRUCTURED-LOCATION;VALUE=URI;X-ADDRESS=5413 16th Street\, NW\, Was
 hington\, DC\, United States;X-APPLE-RADIUS=100;X-TITLE=Sixth Presbyterian
  Church:geo:38.9558097,-77.03569800000002
END:VEVENT
BEGIN:VTIMEZONE
TZID:America/Detroit
X-LIC-LOCATION:America/Detroit
BEGIN:DAYLIGHT
DTSTART:20150308T030000
TZOFFSETFROM:-0500
TZOFFSETTO:-0400
TZNAME:EDT
END:DAYLIGHT
END:VTIMEZONE
END:VCALENDAR