BEGIN:VCALENDAR
VERSION:2.0
PRODID:-//wp-events-plugin.com//7.0.5//EN
TZID:America/Detroit
X-WR-TIMEZONE:America/Detroit
BEGIN:VEVENT
UID:867@test.arabamerica.com
DTSTART;TZID=America/Detroit;VALUE=DATE:20150529
DTEND;TZID=America/Detroit;VALUE=DATE:20150530
DTSTAMP:20150403T150028Z
URL:https://test.arabamerica.com/events/open-call-for-entries-19th-annual-
 arab-film-festival-2015/
SUMMARY:Open Call for Entries: 19th Annual Arab Film Festival 2015
DESCRIPTION:CALIFORNIA\n\nOPEN CALL FOR ENTRIES\n\n19th Annual Arab Film Fe
 stival\nOctober 16-29\, 2015\nSan Francisco | Los Angeles | San Diego\n\nT
 he Arab Film Festival (AFF) is now accepting submissions for its 19th edit
 ion to be held in the San Francisco Bay Area October 2015 (Los Angeles and
  San Diego in November).\n\nDATES\nSubmission Deadline: May 29\, 2015\nLat
 e Submission Deadline: June 16\, 2015\nAnnouncements: August 15\, 2015\n\n
 AFF annually showcases works by independent filmmakers that provide insigh
 t into the beauty\, complexity and diversity of the Arab world alongside r
 ealistic perspectives on Arab people\, culture\, art\, history and politic
 s. This year’s festival is particularly interested in comedies\, animati
 on\, children’s films and music videos.\n\nSubmit now through FilmFreewa
 y:\nhttps://filmfreeway.com/festival/AFF\n\nOr for more information:\nhttp
 ://www.arabfilmfestival.org/submit\n\nNever let lack of funds detract from
  submitting\, send a request for a fee wavier to films@arabfilmfestival.or
 g\n\n
ATTACH;FMTTYPE=image/jpeg:https://test.arabamerica.com/wp-content/uploads/
 2015/04/10641112_10153276787439683_5392606128163327433_n.jpg
CATEGORIES:Film
LOCATION:Arab Film Festival\, 333 Valencia Street\, Suite 325\, San Francis
 co\, CA\, 94103\, United States
GEO:37.7676456;-122.42186989999999
X-APPLE-STRUCTURED-LOCATION;VALUE=URI;X-ADDRESS=333 Valencia Street\, Suite
  325\, San Francisco\, CA\, 94103\, United States;X-APPLE-RADIUS=100;X-TIT
 LE=Arab Film Festival:geo:37.7676456,-122.42186989999999
END:VEVENT
BEGIN:VTIMEZONE
TZID:America/Detroit
X-LIC-LOCATION:America/Detroit
BEGIN:DAYLIGHT
DTSTART:20150308T030000
TZOFFSETFROM:-0500
TZOFFSETTO:-0400
TZNAME:EDT
END:DAYLIGHT
END:VTIMEZONE
END:VCALENDAR