BEGIN:VCALENDAR
VERSION:2.0
PRODID:-//wp-events-plugin.com//7.0.5//EN
TZID:America/Detroit
X-WR-TIMEZONE:America/Detroit
BEGIN:VEVENT
UID:918@test.arabamerica.com
DTSTART;TZID=America/Detroit:20150523T170000
DTEND;TZID=America/Detroit:20150523T193000
DTSTAMP:20150406T184805Z
URL:https://test.arabamerica.com/events/on-the-brides-side/
SUMMARY:On the Bride’s Side
DESCRIPTION:TEXAS\n\nA Palestinian poet and an Italian journalist meet five
  Palestinians and Syrians in Milan who entered Europe via the Italian isla
 nd of Lampedusa after fleeing the war in Syria. They decide to help them c
 omplete their journey to Sweden\, and hopefully avoid getting themselves a
 rrested as traffickers\, by faking a wedding. With a Palestinian friend dr
 essed up as the bride and a dozen or so Italian and Syrian friends as wedd
 ing guests\, they cross halfway over Europe on a four-day journey of three
  thousand kilometers.\n\nDocumentary\, Drama/ Italy/ 2014/ Arabic/ Color/ 
 89 minutes\nDate &amp\; Place: Saturday\, May 23 - 5:00 PM at Rice Univers
 ity Media Center\nDirector: Antonio Augugliaro\, Gabriele del Grande\, Kha
 led Soliman al Nassiry\nWriter: Antonio Augugliaro\, Gabriele del Grande\,
  Khaled Soliman al Nassiry\n\n
ATTACH;FMTTYPE=image/jpeg:https://test.arabamerica.com/wp-content/uploads/
 2015/04/11017818_1036526746360963_1644785827207098242_n.jpg
CATEGORIES:Film
LOCATION:Rice Media Center\, 6100 Main Street\, Houston\, TX\, United State
 s
GEO:29.7161208;-95.40430190000001
X-APPLE-STRUCTURED-LOCATION;VALUE=URI;X-ADDRESS=6100 Main Street\, Houston\
 , TX\, United States;X-APPLE-RADIUS=100;X-TITLE=Rice Media Center:geo:29.7
 161208,-95.40430190000001
END:VEVENT
BEGIN:VTIMEZONE
TZID:America/Detroit
X-LIC-LOCATION:America/Detroit
BEGIN:DAYLIGHT
DTSTART:20150308T030000
TZOFFSETFROM:-0500
TZOFFSETTO:-0400
TZNAME:EDT
END:DAYLIGHT
END:VTIMEZONE
END:VCALENDAR