BEGIN:VCALENDAR
VERSION:2.0
PRODID:-//wp-events-plugin.com//7.0.5//EN
TZID:America/Detroit
X-WR-TIMEZONE:America/Detroit
BEGIN:VEVENT
UID:925@test.arabamerica.com
DTSTART;TZID=America/Detroit:20150416T180000
DTEND;TZID=America/Detroit:20150416T203000
DTSTAMP:20150406T191838Z
URL:https://test.arabamerica.com/events/occupation-101/
SUMMARY:Occupation 101
DESCRIPTION:MICHIGAN\n\nFree Film Screening\n\nFree food\, beverages\, and 
 desserts.\n\n
ATTACH;FMTTYPE=image/jpeg:https://test.arabamerica.com/wp-content/uploads/
 2015/04/11147839_699049940205894_2207707103633497042_n.jpg
CATEGORIES:Community,Film
LOCATION:Eastern Michigan University\, 900 Oakwood St\, Ypsilanti\, MI\, 48
 197\, United States
GEO:42.2516153;-83.62734510000001
X-APPLE-STRUCTURED-LOCATION;VALUE=URI;X-ADDRESS=900 Oakwood St\, Ypsilanti\
 , MI\, 48197\, United States;X-APPLE-RADIUS=100;X-TITLE=Eastern Michigan U
 niversity:geo:42.2516153,-83.62734510000001
END:VEVENT
BEGIN:VTIMEZONE
TZID:America/Detroit
X-LIC-LOCATION:America/Detroit
BEGIN:DAYLIGHT
DTSTART:20150308T030000
TZOFFSETFROM:-0500
TZOFFSETTO:-0400
TZNAME:EDT
END:DAYLIGHT
END:VTIMEZONE
END:VCALENDAR