BEGIN:VCALENDAR
VERSION:2.0
PRODID:-//wp-events-plugin.com//7.0.5//EN
TZID:America/Detroit
X-WR-TIMEZONE:America/Detroit
BEGIN:VEVENT
UID:881@test.arabamerica.com
DTSTART;TZID=America/Detroit:20150516T200000
DTEND;TZID=America/Detroit:20150517T003000
DTSTAMP:20150406T150806Z
URL:https://test.arabamerica.com/events/najwa-karam-toronto-concert-2015/
SUMMARY:Najwa Karam Toronto Concert 2015
DESCRIPTION:CANADA\n\nWelcome to Layalina Entertainment\, the spirit of the
  Toronto Arabian Nights. Our company started in Toronto\, Canada in 1990.\
 n\nWe are specialized in organizing and managing large scale entertainment
  events across Canada and the U.S. We are committed to offer the highest l
 evel of professional entertainment in North America.\n\nBe sure to like us
  on Facebook to keep up to date on all of our future events.\n\nLayalina\n
 https://www.facebook.com/pages/Layalina/114006142013766?sk=timeline\n\n
ATTACH;FMTTYPE=image/jpeg:https://test.arabamerica.com/wp-content/uploads/
 2015/04/10463960_10155315352840328_5265033273155495965_n.jpg
CATEGORIES:Music/Folk/World
LOCATION:International Plaza Hotel & Conference Centre Toronto Airport\, 65
 5 Dixon Road\, Toronto\, Canada\, M9W 1J3\, Canada
GEO:43.68936069999999;-79.57796350000001
X-APPLE-STRUCTURED-LOCATION;VALUE=URI;X-ADDRESS=655 Dixon Road\, Toronto\, 
 Canada\, M9W 1J3\, Canada;X-APPLE-RADIUS=100;X-TITLE=International Plaza H
 otel & Conference Centre Toronto Airport:geo:43.68936069999999,-79.5779635
 0000001
END:VEVENT
BEGIN:VTIMEZONE
TZID:America/Detroit
X-LIC-LOCATION:America/Detroit
BEGIN:DAYLIGHT
DTSTART:20150308T030000
TZOFFSETFROM:-0500
TZOFFSETTO:-0400
TZNAME:EDT
END:DAYLIGHT
END:VTIMEZONE
END:VCALENDAR