BEGIN:VCALENDAR
VERSION:2.0
PRODID:-//wp-events-plugin.com//7.0.5//EN
TZID:America/Detroit
X-WR-TIMEZONE:America/Detroit
BEGIN:VEVENT
UID:864@test.arabamerica.com
DTSTART;TZID=America/Detroit:20150411T200000
DTEND;TZID=America/Detroit:20150411T233000
DTSTAMP:20150402T233830Z
URL:https://test.arabamerica.com/events/mimouna-moroccan-festival/
SUMMARY:Mimouna Moroccan Festival
DESCRIPTION:CALIFORNIA\n\nTraditionally in Morocco the Jewish Moroccans wou
 ld celebrate Pesach or Passover culiminating in Mimouna\, which is like th
 e Rite of Spring (in Iran it's called Nowruz or new year). Prior to the la
 st day of Pesach and the Mimouna celebration\, they observe the holiday fo
 r a week\, and do not eat bread or anything with yeast (thus\, no cake\, b
 eer etc). At the end of the Passover holiday\, everybody gets together to 
 celebrate. Moroccan Muslim neighbors come over with flour\, sugar and othe
 r ingredients\, to make mofletas (large homemade donuts). There is a celeb
 ratory table—quite similar to the Iranian Zoroastrian Nowruz table setti
 ng\, or Haftsin—with items representing the Spring and abundance\, like 
 pomegranates\, a whole fish\, chocolate coins\, sweets\, fruit and more.\n
 \nMimouna: Moroccan Festival is an occasion for us all to be Moroccans\, f
 or Arabs\, Arab Jews\, Jews and their friends to celebrate together. Enjoy
  the beautiful dance of the striking Rosa Rojas and her group Guedra\, wit
 h the authentic gnawa music of Youssef Iferd and guest performer Fella Oud
 ane. Everything is included in the price of the ticket: live music\, dance
 \, Mimouna table\, mofletas\, sweets\, Moroccan tea and good fortune for t
 he year! Doors open 8 pm! Traditional attire welcome (optional)\, also a f
 ull selection of Hamsa (Hand of Fatima) and other evil eye jewelry from Gu
 lnur. Moroccan catering by Bouchra Azizy.\n\nread more\, artist bios:\nhtt
 p://www.levantinecenter.org/event/mimouna-moroccan-festival\n\n
ATTACH;FMTTYPE=image/jpeg:https://test.arabamerica.com/wp-content/uploads/
 2015/04/11113596_889793984392717_7787205839380427732_n.jpg
CATEGORIES:Community,Festivals
LOCATION:Levantine Cultural Center\, 5998 W Pico Blvd\, LA\, CA\, United St
 ates
GEO:34.0520487;-118.3710309
X-APPLE-STRUCTURED-LOCATION;VALUE=URI;X-ADDRESS=5998 W Pico Blvd\, LA\, CA\
 , United States;X-APPLE-RADIUS=100;X-TITLE=Levantine Cultural Center:geo:3
 4.0520487,-118.3710309
END:VEVENT
BEGIN:VTIMEZONE
TZID:America/Detroit
X-LIC-LOCATION:America/Detroit
BEGIN:DAYLIGHT
DTSTART:20150308T030000
TZOFFSETFROM:-0500
TZOFFSETTO:-0400
TZNAME:EDT
END:DAYLIGHT
END:VTIMEZONE
END:VCALENDAR