BEGIN:VCALENDAR
VERSION:2.0
PRODID:-//wp-events-plugin.com//7.0.5//EN
TZID:America/Detroit
X-WR-TIMEZONE:America/Detroit
BEGIN:VEVENT
UID:589@test.arabamerica.com
DTSTART;TZID=America/Detroit:20150318T180000
DTEND;TZID=America/Detroit:20150318T200000
DTSTAMP:20150317T203542Z
URL:https://test.arabamerica.com/events/middle-eastern-legislative-night/
SUMMARY:Middle Eastern Legislative Night
DESCRIPTION:MARYLAND\n\nJoin the Governor's Commission on Middle Eastern Am
 erican Affairs for the 2015 Legislative Night\, sponsored by Delegate Sid 
 Saab. Meet with your local officials and disucss important legislation. In
 vited guests include Governor Lawrence J. Hogan\, Jr. and Lt. Governor Boy
 d K. Rutherford.\n\nThe Commission is honored to be partnering this year w
 ith our various community organizations including:\n\nThe Maryland Arab Am
 erican Committee\n\nMontgomery County Middle Eastern Advisory Board\n\nFor
  more information about the event or to find our more about joining our li
 st of sponsors\, please email the Adminsitrative Director\, Iman Awad\, at
  iman.awad@maryland.gov or call 410-767-7925.
ATTACH;FMTTYPE=image/jpeg:https://test.arabamerica.com/wp-content/uploads/
 2015/03/Screen-Shot-2015-03-17-at-4.34.29-PM.png
CATEGORIES:Community
LOCATION:House Office Building\, 6 Bladen Street\, Annapolis\, Maryland\, U
 nited States
GEO:38.9797023;-76.49220530000002
X-APPLE-STRUCTURED-LOCATION;VALUE=URI;X-ADDRESS=6 Bladen Street\, Annapolis
 \, Maryland\, United States;X-APPLE-RADIUS=100;X-TITLE=House Office Buildi
 ng:geo:38.9797023,-76.49220530000002
END:VEVENT
BEGIN:VTIMEZONE
TZID:America/Detroit
X-LIC-LOCATION:America/Detroit
BEGIN:DAYLIGHT
DTSTART:20150308T030000
TZOFFSETFROM:-0500
TZOFFSETTO:-0400
TZNAME:EDT
END:DAYLIGHT
END:VTIMEZONE
END:VCALENDAR