BEGIN:VCALENDAR
VERSION:2.0
PRODID:-//wp-events-plugin.com//7.0.5//EN
TZID:America/Detroit
X-WR-TIMEZONE:America/Detroit
BEGIN:VEVENT
UID:948@test.arabamerica.com
DTSTART;TZID=America/Detroit;VALUE=DATE:20150710
DTEND;TZID=America/Detroit;VALUE=DATE:20150713
DTSTAMP:20150422T204123Z
URL:https://test.arabamerica.com/events/mea-tv-radios-6th-annual-festival/
SUMMARY:MEA TV & Radio's 6th Annual Festival
DESCRIPTION:&nbsp\;\n\n&nbsp\;\n\n\n\n&nbsp\;\n\nMICHIGAN\n\nEach year MEA 
 TV &amp\; Radio and the city of Warren bring together Middle Eastern Ameri
 can’s from all over Metro Detroit for 3 days of music\, culture\, dancin
 g\, and of course delicious Middle Eastern food. Through our vendors and s
 ponsors we bring together businesses and organizations with the community 
 they serve to shed light on the products and services they offer. Join us 
 in our 6th year as we celebrate the Middle Eastern culture in the city of 
 Warren on July 10th\, 11th and 12th\, 2015!\n\nFor more information and to
  become a sponsor or vendor please contact MEA TV &amp\; Radio at (248)996
 -9636 or email us at festival@meatv-radio.com\n\nFREE PARKING | FREE ADMIS
 SION!\n\nMEA Festival is the only Cultural and Music Festival giving spons
 ors the opportunity to reach an untapped market of different ethnic minori
 ties with an attendance of 50\,000 throughout the 3 days.\n\nThe City of W
 arren and its neighboring cities of Sterling Heights\, Shelby\, Troy\, Mad
 ison Heights\, Rochester\, and Rochester Hills embrace more than 70% of th
 e Chaldean Community\, and more than 60% of the Lebanese Christians\, Egyp
 tians\, Syrians\, Palestinians\, and Jordanians.\n\nThese vibrant communit
 ies represent the growing commercial and residential markets.\n\nMEA’s C
 ultural &amp\; Music Festival has become the largest grassroots event gath
 ering the diverse Middle Eastern American community and celebrating cultur
 al diversity. There has never been a grass roots event gathering all the d
 ifferent families in a cultural and music celebration.\n\nMEA TV &amp\; Ra
 dio is organizing this festival providing its community with a first time 
 opportunity to gather and enjoy the children’s games\, food\, entertainm
 ent\, talent shows\, cultural fashion shows\, and interact with the busine
 sses and corporations serving them or looking to work with them.\n\nhttp:/
 /www.meatv-radio.com/events/mea-festival/\n\n&nbsp\;
ATTACH;FMTTYPE=image/jpeg:https://test.arabamerica.com/wp-content/uploads/
 2015/04/44a62e2b3a12de64138011220dae1a61.jpg
CATEGORIES:Academic Lecture,Community,Festivals,Music/Folk/World
LOCATION:Warren City Square\, One City Square\, Warren\, MI\, 48093\, Unite
 d States
GEO:42.512182;-83.0243721
X-APPLE-STRUCTURED-LOCATION;VALUE=URI;X-ADDRESS=One City Square\, Warren\, 
 MI\, 48093\, United States;X-APPLE-RADIUS=100;X-TITLE=Warren City Square:g
 eo:42.512182,-83.0243721
END:VEVENT
BEGIN:VTIMEZONE
TZID:America/Detroit
X-LIC-LOCATION:America/Detroit
BEGIN:DAYLIGHT
DTSTART:20150308T030000
TZOFFSETFROM:-0500
TZOFFSETTO:-0400
TZNAME:EDT
END:DAYLIGHT
END:VTIMEZONE
END:VCALENDAR