BEGIN:VCALENDAR
VERSION:2.0
PRODID:-//wp-events-plugin.com//7.0.5//EN
TZID:America/Detroit
X-WR-TIMEZONE:America/Detroit
BEGIN:VEVENT
UID:909@test.arabamerica.com
DTSTART;TZID=America/Detroit:20150430T193000
DTEND;TZID=America/Detroit:20150430T213000
DTSTAMP:20150406T180954Z
URL:https://test.arabamerica.com/events/may-in-summer-and-in-overtime/
SUMMARY:"May in Summer" and "In Overtime"
DESCRIPTION:ILLINOIS\n\nCLOSING NIGHT!!!\n\nYou are cordially intend to att
 end the Chicago Palestine Film Festival's 14th year!\n\nChicago Palestine 
 Film Festival presents the award winning and powerful comedic film MAY IN
  SUMMER by critically acclaimed director Cherien Dabis\, starring Hiam A
 bbass\, Cherien Dabis\, Bill Pullman\n\nCherien Dabis (AMREEKA) directs a
 nd stars in MAY IN THE SUMMER\, boldly staging a romantic comedy against t
 he uneasy background of Middle Eastern conflict. May\, a best-selling New 
 York author\, meets with trouble verging on disaster when she returns to h
 er native Jordan to prepare for her wedding. Juggling a born-again Christi
 an mom opposed to her marriage to a Muslim\, a womanizing American dad wit
 h his new wife\, and two sisters in the throes of identity crises\, she m
 eets a tall\, dark stranger.\n\nCheck out the trailer - https://www.youtu
 be.com/watch?v=4ug1I8Y0HWA\n\nIN OVERTIME\nThings left unsaid define the r
 elationship between a dying father and his estranged son.\n\nJoin us for a
  panel discussion after the film!\n\nCPFF is a 501-c3 not for profit organ
 ization dedicated to telling the stories of the Palestinian people and pro
 moting social justice and community.
ATTACH;FMTTYPE=image/jpeg:https://test.arabamerica.com/wp-content/uploads/
 2015/04/mayinthesummer.jpg
CATEGORIES:Film
LOCATION:Gene Siskel Film Center of the School of the Art Institute of Chic
 ago\, 164 N State St\, Chicago\, IL\, 60601\, United States
GEO:41.884861;-87.628309
X-APPLE-STRUCTURED-LOCATION;VALUE=URI;X-ADDRESS=164 N State St\, Chicago\, 
 IL\, 60601\, United States;X-APPLE-RADIUS=100;X-TITLE=Gene Siskel Film Cen
 ter of the School of the Art Institute of Chicago:geo:41.884861,-87.628309
END:VEVENT
BEGIN:VTIMEZONE
TZID:America/Detroit
X-LIC-LOCATION:America/Detroit
BEGIN:DAYLIGHT
DTSTART:20150308T030000
TZOFFSETFROM:-0500
TZOFFSETTO:-0400
TZNAME:EDT
END:DAYLIGHT
END:VTIMEZONE
END:VCALENDAR