BEGIN:VCALENDAR
VERSION:2.0
PRODID:-//wp-events-plugin.com//7.0.5//EN
TZID:America/Detroit
X-WR-TIMEZONE:America/Detroit
BEGIN:VEVENT
UID:3@test.arabamerica.com
DTSTART;TZID=America/Detroit:20141023T000000
DTEND;TZID=America/Detroit:20141110T000000
DTSTAMP:20141112T034543Z
URL:https://test.arabamerica.com/events/live-one/
SUMMARY:Livestream on-line
DESCRIPTION:Livestream on-line exerpt
CATEGORIES:Music/DJ
END:VEVENT
BEGIN:VTIMEZONE
TZID:America/Detroit
X-LIC-LOCATION:America/Detroit
BEGIN:DAYLIGHT
DTSTART:20140309T030000
TZOFFSETFROM:-0500
TZOFFSETTO:-0400
TZNAME:EDT
END:DAYLIGHT
BEGIN:STANDARD
DTSTART:20141102T010000
TZOFFSETFROM:-0400
TZOFFSETTO:-0500
TZNAME:EST
END:STANDARD
END:VTIMEZONE
END:VCALENDAR