BEGIN:VCALENDAR
VERSION:2.0
PRODID:-//wp-events-plugin.com//7.0.5//EN
TZID:America/Detroit
X-WR-TIMEZONE:America/Detroit
BEGIN:VEVENT
UID:880@test.arabamerica.com
DTSTART;TZID=America/Detroit:20150430T170000
DTEND;TZID=America/Detroit:20150430T190000
DTSTAMP:20150406T150432Z
URL:https://test.arabamerica.com/events/lebanons-cedar-revolution/
SUMMARY:Lebanon's Cedar Revolution
DESCRIPTION:DISTRICT OF COLUMBIA\n\nMark Your Calendars\n\nand prepare to j
 oin the Lebanese-American organizations in Washington DC\nand Honorable Me
 mbers of the US Administration and\nCongress for a Reception on Capitol Hi
 ll in Commemoration of the\n\n10th Anniversary of Lebanon's Cedar Revoluti
 on \nand the Withdrawal of the Syrian Army\n\nThe event will be held on\n
 \nThursday\, April 30\, 2014 \nat the United States Capitol\n5:00 and 7:
 00 pm.\n\n&nbsp\;\n\nBy Invitation Only
ATTACH;FMTTYPE=image/jpeg:https://test.arabamerica.com/wp-content/uploads/
 2015/04/ImageProxy-15.mvc_.jpeg
CATEGORIES:Advocacy,Community
LOCATION:U.S. Capitol Building\, East Capitol St NE &amp\; First St SE\, Wa
 shington \, DC\, United States
GEO:38.889812;-77.00592849999998
X-APPLE-STRUCTURED-LOCATION;VALUE=URI;X-ADDRESS=East Capitol St NE & First 
 St SE\, Washington \, DC\, United States;X-APPLE-RADIUS=100;X-TITLE=U.S. C
 apitol Building:geo:38.889812,-77.00592849999998
END:VEVENT
BEGIN:VTIMEZONE
TZID:America/Detroit
X-LIC-LOCATION:America/Detroit
BEGIN:DAYLIGHT
DTSTART:20150308T030000
TZOFFSETFROM:-0500
TZOFFSETTO:-0400
TZNAME:EDT
END:DAYLIGHT
END:VTIMEZONE
END:VCALENDAR