BEGIN:VCALENDAR
VERSION:2.0
PRODID:-//wp-events-plugin.com//7.0.5//EN
TZID:America/Detroit
X-WR-TIMEZONE:America/Detroit
BEGIN:VEVENT
UID:887@test.arabamerica.com
DTSTART;TZID=America/Detroit:20150425T180000
DTEND;TZID=America/Detroit:20150425T220000
DTSTAMP:20150406T155105Z
URL:https://test.arabamerica.com/events/lebanese-in-dallas-fort-worth-get-
 to-know-dinner/
SUMMARY:Lebanese in Dallas Fort Worth Get to Know Dinner
DESCRIPTION:TEXAS\n\nGet to know each other dinner event.\n\nTerra used to 
 be called Ali Baba. it has great Lebanese food at reasonable prices.\n\npl
 ease join the event if you are planning to come. we need to know how many 
 people to get a reservation for. also\, please indicate if you are bringin
 g any guests\n\nPlease invite you Lebanese in Dallas Fort Worth Friends.\n
 \n
ATTACH;FMTTYPE=image/jpeg:https://test.arabamerica.com/wp-content/uploads/
 2015/04/10931391_10152822759981275_7393804498787332363_n.jpg
CATEGORIES:Community
LOCATION:Terra Mediterranean Grill (Irving)\, 5910 N MacArthur Boulevard\, 
 # 121\, Irving\, Texas\, 75039\, United States
GEO:32.8924384;-96.96001580000001
X-APPLE-STRUCTURED-LOCATION;VALUE=URI;X-ADDRESS=5910 N MacArthur Boulevard\
 , # 121\, Irving\, Texas\, 75039\, United States;X-APPLE-RADIUS=100;X-TITL
 E=Terra Mediterranean Grill (Irving):geo:32.8924384,-96.96001580000001
END:VEVENT
BEGIN:VTIMEZONE
TZID:America/Detroit
X-LIC-LOCATION:America/Detroit
BEGIN:DAYLIGHT
DTSTART:20150308T030000
TZOFFSETFROM:-0500
TZOFFSETTO:-0400
TZNAME:EDT
END:DAYLIGHT
END:VTIMEZONE
END:VCALENDAR