BEGIN:VCALENDAR
VERSION:2.0
PRODID:-//wp-events-plugin.com//7.0.5//EN
TZID:America/Detroit
X-WR-TIMEZONE:America/Detroit
BEGIN:VEVENT
UID:894@test.arabamerica.com
DTSTART;TZID=America/Detroit:20150503T143000
DTEND;TZID=America/Detroit:20150503T183000
DTSTAMP:20150406T164306Z
URL:https://test.arabamerica.com/events/ladies-chai-social-celebrating-the
 -women-in-your-life/
SUMMARY:Ladies Chai Social: Celebrating the Women in your Life
DESCRIPTION:INDIANA\n\nTo kick off its 10th Anniversary year\, Seeds of Le
 arning will be honoring women in our communities with the First Annual La
 dies Chai Social on May 3rd.\n\nWomen play many roles in our lives but one
  of the most important roles is that of our first teacher. They shape our 
 personalities and mold us to be strong.\n\nJoin us for an afternoon full o
 f live entertainment\, games\, vendors\, music and food\; as we honor the 
 women that have shaped our lives and given us unconditional support.\n\nTi
 ckets for the Ladies Chai SOciaL can be purchased through Eventbrite @\nht
 tp://chaisocialsol.eventbrite.com/\n\nIf you have any questions please con
 tact:\nSadaf Kheiri\, (312) 402-7288\, sadafkheiri@gmail.com
CATEGORIES:Community
LOCATION:Monon Comunity Center East\, 1236 Central Park Dr.\,  E Carmel\, I
 N\, 46032\, United States
GEO:39.9504571;-86.13614849999999
X-APPLE-STRUCTURED-LOCATION;VALUE=URI;X-ADDRESS=1236 Central Park Dr.\,  E 
 Carmel\, IN\, 46032\, United States;X-APPLE-RADIUS=100;X-TITLE=Monon Comun
 ity Center East:geo:39.9504571,-86.13614849999999
END:VEVENT
BEGIN:VTIMEZONE
TZID:America/Detroit
X-LIC-LOCATION:America/Detroit
BEGIN:DAYLIGHT
DTSTART:20150308T030000
TZOFFSETFROM:-0500
TZOFFSETTO:-0400
TZNAME:EDT
END:DAYLIGHT
END:VTIMEZONE
END:VCALENDAR